BEGIN:VCALENDAR
VERSION:2.0
PRODID:-//HawkWatch International - ECPv6.15.16//NONSGML v1.0//EN
CALSCALE:GREGORIAN
METHOD:PUBLISH
X-WR-CALNAME:HawkWatch International
X-ORIGINAL-URL:https://hawkwatch.org
X-WR-CALDESC:Events for HawkWatch International
REFRESH-INTERVAL;VALUE=DURATION:PT1H
X-Robots-Tag:noindex
X-PUBLISHED-TTL:PT1H
BEGIN:VTIMEZONE
TZID:America/Chicago
BEGIN:DAYLIGHT
TZOFFSETFROM:-0600
TZOFFSETTO:-0500
TZNAME:CDT
DTSTART:20220313T080000
END:DAYLIGHT
BEGIN:STANDARD
TZOFFSETFROM:-0500
TZOFFSETTO:-0600
TZNAME:CST
DTSTART:20221106T070000
END:STANDARD
BEGIN:DAYLIGHT
TZOFFSETFROM:-0600
TZOFFSETTO:-0500
TZNAME:CDT
DTSTART:20230312T080000
END:DAYLIGHT
BEGIN:STANDARD
TZOFFSETFROM:-0500
TZOFFSETTO:-0600
TZNAME:CST
DTSTART:20231105T070000
END:STANDARD
BEGIN:DAYLIGHT
TZOFFSETFROM:-0600
TZOFFSETTO:-0500
TZNAME:CDT
DTSTART:20240310T080000
END:DAYLIGHT
BEGIN:STANDARD
TZOFFSETFROM:-0500
TZOFFSETTO:-0600
TZNAME:CST
DTSTART:20241103T070000
END:STANDARD
END:VTIMEZONE
BEGIN:VEVENT
DTSTART;TZID=America/Chicago:20230817T130000
DTEND;TZID=America/Chicago:20230817T140000
DTSTAMP:20260419T102827
CREATED:20230817T015734Z
LAST-MODIFIED:20240709T022820Z
UID:9279-1692277200-1692280800@hawkwatch.org
SUMMARY:Bird of Prey Show at Alta
DESCRIPTION:Want to see LIVE raptors up close? Join us for a free show at the Alta Environmental Center! Our team of expert educators will share the important roles these creatures play in our ecosystems and how you can participate in conserving these raptors\, and you’ll meet two of our Raptor Ambassadors. \nNo registration is required for this event made possible by Salt Lake County ZAP and the generosity of supporters like you. \n \n 
URL:https://hawkwatch.org/event/birdofpreyshow-alta/
LOCATION:Alta Environmental Center\, Highway 210 Little Cottonwood Canyon\, Alta\, UT\, 84092\, United States
CATEGORIES:Community Programs
END:VEVENT
END:VCALENDAR