BEGIN:VCALENDAR
VERSION:2.0
PRODID:-//HawkWatch International - ECPv6.15.16//NONSGML v1.0//EN
CALSCALE:GREGORIAN
METHOD:PUBLISH
X-ORIGINAL-URL:https://hawkwatch.org
X-WR-CALDESC:Events for HawkWatch International
REFRESH-INTERVAL;VALUE=DURATION:PT1H
X-Robots-Tag:noindex
X-PUBLISHED-TTL:PT1H
BEGIN:VTIMEZONE
TZID:UTC
BEGIN:STANDARD
TZOFFSETFROM:+0000
TZOFFSETTO:+0000
TZNAME:UTC
DTSTART:20220101T000000
END:STANDARD
END:VTIMEZONE
BEGIN:VEVENT
DTSTART;TZID=UTC:20230902T183000
DTEND;TZID=UTC:20230902T193000
DTSTAMP:20260419T103251
CREATED:20230818T235523Z
LAST-MODIFIED:20240709T022820Z
UID:9323-1693679400-1693683000@hawkwatch.org
SUMMARY:Timpanogos Cave Program
DESCRIPTION:Join us at Timpanogos Cave for a family friendly free event! Come meet two of our raptor ambassadors\, learn about local conservation efforts\, and find out what raptors could be in your backyard! \nNo registration required!
URL:https://hawkwatch.org/event/timpanogos-cave-program/
LOCATION:Timpanogos Cave National Monument\, 2038 E Alpine Lp Rd\, American Fork\, UT\, United States
ATTACH;FMTTYPE=image/png:https://hawkwatch.org/wp-content/uploads/2023/08/Untitled-design1.png
END:VEVENT
END:VCALENDAR