BEGIN:VCALENDAR
VERSION:2.0
PRODID:-//HawkWatch International - ECPv6.15.16//NONSGML v1.0//EN
CALSCALE:GREGORIAN
METHOD:PUBLISH
X-WR-CALNAME:HawkWatch International
X-ORIGINAL-URL:https://hawkwatch.org
X-WR-CALDESC:Events for HawkWatch International
REFRESH-INTERVAL;VALUE=DURATION:PT1H
X-Robots-Tag:noindex
X-PUBLISHED-TTL:PT1H
BEGIN:VTIMEZONE
TZID:UTC
BEGIN:STANDARD
TZOFFSETFROM:+0000
TZOFFSETTO:+0000
TZNAME:UTC
DTSTART:20220101T000000
END:STANDARD
END:VTIMEZONE
BEGIN:VEVENT
DTSTART;TZID=UTC:20230927T180000
DTEND;TZID=UTC:20230927T193000
DTSTAMP:20260419T183556
CREATED:20230819T011621Z
LAST-MODIFIED:20240709T022820Z
UID:9334-1695837600-1695843000@hawkwatch.org
SUMMARY:Wheeler Farm Pumpkin Days 2023
DESCRIPTION:We’re back! Join us once again for this fall family fun event! Come meet our raptor ambassadors\, learn about where raptors are hanging out in the fall\, and find out what raptors may be living in your backyard! Find us at the Old House behind the visitor center. \nMissed us this time around? Catch us from 6PM to 7:30PM on the following dates: Oct 4th\, Oct 11th\, Oct 18th\, and Oct 25th. \n\nThis event requires a standard ticket admission to the Wheeler Farm Pumpkin Days event\, rates and add-ons are as follow: \n\nAdmission Rates\nAges 2+: $12 (includes Playland\, Maze and Wagon or Cow Train ride)\nUnder 2: Children 23months old and younger Free with paying adult \nWagon Ride only: All Riders $3 age 2 and under\nCow Train only: $3\nPumpkin Patch: Pumpkin Prices vary by size! Pumpkin is NOT included in the event ticket price listed above. Pumpkin prices range from $2-$20 \nThis event is made possible by Salt Lake County ZAP and the generosity of supporters like you.
URL:https://hawkwatch.org/event/wheeler-farm-pumpkin-days-2023/
LOCATION:Wheeler Historic Farm\, 6351 South 900 East\, Murra\, UT\, 84121\, United States
ATTACH;FMTTYPE=image/png:https://hawkwatch.org/wp-content/uploads/2023/08/Untitled-design2.png
END:VEVENT
END:VCALENDAR