BEGIN:VCALENDAR
VERSION:2.0
PRODID:-//HawkWatch International - ECPv6.15.16//NONSGML v1.0//EN
CALSCALE:GREGORIAN
METHOD:PUBLISH
X-ORIGINAL-URL:https://hawkwatch.org
X-WR-CALDESC:Events for HawkWatch International
REFRESH-INTERVAL;VALUE=DURATION:PT1H
X-Robots-Tag:noindex
X-PUBLISHED-TTL:PT1H
BEGIN:VTIMEZONE
TZID:UTC
BEGIN:STANDARD
TZOFFSETFROM:+0000
TZOFFSETTO:+0000
TZNAME:UTC
DTSTART:20220101T000000
END:STANDARD
END:VTIMEZONE
BEGIN:VEVENT
DTSTART;TZID=UTC:20231028T100000
DTEND;TZID=UTC:20231028T120000
DTSTAMP:20260419T135441
CREATED:20231016T234947Z
LAST-MODIFIED:20240709T022818Z
UID:9837-1698487200-1698494400@hawkwatch.org
SUMMARY:Antelope Island Bison Roundup
DESCRIPTION:Join us at the 2023 annual bison roundup at Antelope Island\, an up close example of conservation and land management practices happening in your backyard! Come meet a live Golden Eagle\, find out about the threats raptors are facing in our home state\, and discover what kinds of threatened and endangered raptors call Garr Ranch home. \nThis event requires an entrance fee handled by the state park. Please visit their website for the fee schedule as well as a list of other vendors and the roundup schedule.
URL:https://hawkwatch.org/event/antelope-island-bison-roundup/
LOCATION:Antelope Island State Park\, 4528 West 1700 South\, Syracuse\, UT\, 84075\, United States
END:VEVENT
BEGIN:VEVENT
DTSTART;TZID=UTC:20231028T130000
DTEND;TZID=UTC:20231028T150000
DTSTAMP:20260419T135441
CREATED:20230928T013908Z
LAST-MODIFIED:20240709T022818Z
UID:9734-1698498000-1698505200@hawkwatch.org
SUMMARY:The Leo Spooktacular
DESCRIPTION:Come join HawkWatch International at The Leonardo for their fun-filled day of Halloween surprises! Come meet our Great Horned Owl Kotori\, try and guess which skull belongs to which raptor\, and participate in all the hands-on activities that The Leonardo has planned. To find out about the full schedule of activities and ticket prices you can visit The Leonardo’s website: Spooktacular at The Leonardo
URL:https://hawkwatch.org/event/the-leo-spooktacular/
LOCATION:The Leonardo\, 209 E 500 S\, Salt Lake City\, UT\, 84111\, United States
ATTACH;FMTTYPE=image/png:https://hawkwatch.org/wp-content/uploads/2023/09/Untitled-design6.png
END:VEVENT
END:VCALENDAR