BEGIN:VCALENDAR
VERSION:2.0
PRODID:-//HawkWatch International - ECPv6.15.16//NONSGML v1.0//EN
CALSCALE:GREGORIAN
METHOD:PUBLISH
X-ORIGINAL-URL:https://hawkwatch.org
X-WR-CALDESC:Events for HawkWatch International
REFRESH-INTERVAL;VALUE=DURATION:PT1H
X-Robots-Tag:noindex
X-PUBLISHED-TTL:PT1H
BEGIN:VTIMEZONE
TZID:UTC
BEGIN:STANDARD
TZOFFSETFROM:+0000
TZOFFSETTO:+0000
TZNAME:UTC
DTSTART:20230101T000000
END:STANDARD
END:VTIMEZONE
BEGIN:VEVENT
DTSTART;TZID=UTC:20240127T120000
DTEND;TZID=UTC:20240127T140000
DTSTAMP:20260419T154210
CREATED:20240125T030850Z
LAST-MODIFIED:20240709T022815Z
UID:10809-1706356800-1706364000@hawkwatch.org
SUMMARY:DinoFest at the Utah Natural History Museum
DESCRIPTION:Join HawkWatch International at NHMU’s eighth-annual DinoFest on January 27-28\, 2024. While you learn from paleontologists about how dinosaurs lived\, fought\, and healed in the Mesozoic era\, you can meet present day dinosaurs and find out how they have changed. How do raptors hunt? Do raptors fight like dinosaurs? Do raptors heal when they are sick? All these questions and more can be answered by our education docents at DinoFest! \n*This event is accessible with paid admission to the museum\, tickets are available online and in person. \nThis event is made possible by Salt Lake County ZAP and the generosity of supporters like you.
URL:https://hawkwatch.org/event/dinofest-at-the-utah-natural-history-museum/
LOCATION:UT
END:VEVENT
END:VCALENDAR