BEGIN:VCALENDAR
VERSION:2.0
PRODID:-//HawkWatch International - ECPv6.15.16//NONSGML v1.0//EN
CALSCALE:GREGORIAN
METHOD:PUBLISH
X-WR-CALNAME:HawkWatch International
X-ORIGINAL-URL:https://hawkwatch.org
X-WR-CALDESC:Events for HawkWatch International
REFRESH-INTERVAL;VALUE=DURATION:PT1H
X-Robots-Tag:noindex
X-PUBLISHED-TTL:PT1H
BEGIN:VTIMEZONE
TZID:UTC
BEGIN:STANDARD
TZOFFSETFROM:+0000
TZOFFSETTO:+0000
TZNAME:UTC
DTSTART:20230101T000000
END:STANDARD
END:VTIMEZONE
BEGIN:VEVENT
DTSTART;TZID=UTC:20240217T100000
DTEND;TZID=UTC:20240217T120000
DTSTAMP:20260419T121206
CREATED:20240125T052410Z
LAST-MODIFIED:20240709T022815Z
UID:10829-1708164000-1708171200@hawkwatch.org
SUMMARY:Eagle Day at the Eccles Wildlife Education Center
DESCRIPTION:Join HawkWatch International at the Eccles Wildlife Education Center to talk all things eagles: where they live\, how they hunt\, what threats they face\, and more! Come by and meet a live eagle face to face and find out what you can do to help protect them for generations to come! \nThis event is made possible with support from the Lawrence T. & Janet T Foundation\, and the generosity of supporters like you!
URL:https://hawkwatch.org/event/eagle-day-at-the-eccles-wildlife-education-center-2/
LOCATION:George S. and Dolores Doré Eccles Wildlife Education Center\, 1157 South Waterfowl Way\, Farmington\, UT\, 84025\, United States
ATTACH;FMTTYPE=image/jpeg:https://hawkwatch.org/wp-content/uploads/2024/01/IMG_22241-scaled.jpg
END:VEVENT
END:VCALENDAR