BEGIN:VCALENDAR
VERSION:2.0
PRODID:-//HawkWatch International - ECPv6.15.16//NONSGML v1.0//EN
CALSCALE:GREGORIAN
METHOD:PUBLISH
X-WR-CALNAME:HawkWatch International
X-ORIGINAL-URL:https://hawkwatch.org
X-WR-CALDESC:Events for HawkWatch International
REFRESH-INTERVAL;VALUE=DURATION:PT1H
X-Robots-Tag:noindex
X-PUBLISHED-TTL:PT1H
BEGIN:VTIMEZONE
TZID:UTC
BEGIN:STANDARD
TZOFFSETFROM:+0000
TZOFFSETTO:+0000
TZNAME:UTC
DTSTART:20230101T000000
END:STANDARD
END:VTIMEZONE
BEGIN:VEVENT
DTSTART;TZID=UTC:20240518T140000
DTEND;TZID=UTC:20240518T170000
DTSTAMP:20260419T071633
CREATED:20240305T000220Z
LAST-MODIFIED:20240709T022814Z
UID:11093-1716040800-1716051600@hawkwatch.org
SUMMARY:Daybreak Ladybug Festival
DESCRIPTION:
URL:https://hawkwatch.org/event/daybreak-ladybug-festival/
LOCATION:UT
CATEGORIES:Community Programs
ATTACH;FMTTYPE=image/png:https://hawkwatch.org/wp-content/uploads/2024/03/Event-Calendar-Images.png
END:VEVENT
END:VCALENDAR