BEGIN:VCALENDAR
VERSION:2.0
PRODID:-//HawkWatch International - ECPv6.15.16//NONSGML v1.0//EN
CALSCALE:GREGORIAN
METHOD:PUBLISH
X-ORIGINAL-URL:https://hawkwatch.org
X-WR-CALDESC:Events for HawkWatch International
REFRESH-INTERVAL;VALUE=DURATION:PT1H
X-Robots-Tag:noindex
X-PUBLISHED-TTL:PT1H
BEGIN:VTIMEZONE
TZID:America/Denver
BEGIN:DAYLIGHT
TZOFFSETFROM:-0700
TZOFFSETTO:-0600
TZNAME:MDT
DTSTART:20230312T090000
END:DAYLIGHT
BEGIN:STANDARD
TZOFFSETFROM:-0600
TZOFFSETTO:-0700
TZNAME:MST
DTSTART:20231105T080000
END:STANDARD
BEGIN:DAYLIGHT
TZOFFSETFROM:-0700
TZOFFSETTO:-0600
TZNAME:MDT
DTSTART:20240310T090000
END:DAYLIGHT
BEGIN:STANDARD
TZOFFSETFROM:-0600
TZOFFSETTO:-0700
TZNAME:MST
DTSTART:20241103T080000
END:STANDARD
BEGIN:DAYLIGHT
TZOFFSETFROM:-0700
TZOFFSETTO:-0600
TZNAME:MDT
DTSTART:20250309T090000
END:DAYLIGHT
BEGIN:STANDARD
TZOFFSETFROM:-0600
TZOFFSETTO:-0700
TZNAME:MST
DTSTART:20251102T080000
END:STANDARD
END:VTIMEZONE
BEGIN:VEVENT
DTSTART;TZID=America/Denver:20240701T160000
DTEND;TZID=America/Denver:20240701T170000
DTSTAMP:20260419T071740
CREATED:20240521T234606Z
LAST-MODIFIED:20240709T022812Z
UID:11624-1719849600-1719853200@hawkwatch.org
SUMMARY:Corinne & Jack Sweet Branch Library Program
DESCRIPTION:Ever wonder what makes a raptor different than other birds? Come by the Corinne & Jack Sweet Branch and find out! Meet our live raptor ambassadors and ask our educators all your burning raptor questions.\nThis is a family friendly event\, no tickets or registration required! \nThis event is made possible by Salt Lake County ZAP and the generosity of supporters like you.
URL:https://hawkwatch.org/event/corinne-jack-sweet-branch-library-program/
LOCATION:Corinne & Jack Sweet Branch\, 455 F St E\, Salt Lake City\, UT\, 84103\, United States
ATTACH;FMTTYPE=image/png:https://hawkwatch.org/wp-content/uploads/2024/03/Event-Calendar-Images.png
END:VEVENT
BEGIN:VEVENT
DTSTART;TZID=America/Denver:20240701T180000
DTEND;TZID=America/Denver:20240701T200000
DTSTAMP:20260419T071740
CREATED:20240520T211641Z
LAST-MODIFIED:20240709T022813Z
UID:11591-1719856800-1719864000@hawkwatch.org
SUMMARY:Birds in your Backyard - Granite Park
DESCRIPTION:LOCATION CHANGE – This event was previously scheduled at Dimple Dell Park but as now moved to Granite Park. \nBirds (of prey) are in your backyard! Join HawkWatch International’s educators and Raptor Ambassadors for a short program about the birds of prey in your backyard. Afterward\, you’ll have the chance to meet one of the Ambassador birds\, and if you’re lucky\, they might even pose with you for a selfie! \n\nThis event is made possible by Salt Lake County ZAP and the generosity of supporters like you.
URL:https://hawkwatch.org/event/birds-in-your-backyard-2/
LOCATION:Granite Park\, 2725 Grouse Creek Cir\, Sandy\, 84092\, United States
CATEGORIES:Community Programs
ATTACH;FMTTYPE=image/jpeg:https://hawkwatch.org/wp-content/uploads/2024/05/Park-Popups.jpg
END:VEVENT
END:VCALENDAR