BEGIN:VCALENDAR
VERSION:2.0
PRODID:-//HawkWatch International - ECPv6.15.16//NONSGML v1.0//EN
CALSCALE:GREGORIAN
METHOD:PUBLISH
X-WR-CALNAME:HawkWatch International
X-ORIGINAL-URL:https://hawkwatch.org
X-WR-CALDESC:Events for HawkWatch International
REFRESH-INTERVAL;VALUE=DURATION:PT1H
X-Robots-Tag:noindex
X-PUBLISHED-TTL:PT1H
BEGIN:VTIMEZONE
TZID:America/Denver
BEGIN:DAYLIGHT
TZOFFSETFROM:-0700
TZOFFSETTO:-0600
TZNAME:MDT
DTSTART:20230312T090000
END:DAYLIGHT
BEGIN:STANDARD
TZOFFSETFROM:-0600
TZOFFSETTO:-0700
TZNAME:MST
DTSTART:20231105T080000
END:STANDARD
BEGIN:DAYLIGHT
TZOFFSETFROM:-0700
TZOFFSETTO:-0600
TZNAME:MDT
DTSTART:20240310T090000
END:DAYLIGHT
BEGIN:STANDARD
TZOFFSETFROM:-0600
TZOFFSETTO:-0700
TZNAME:MST
DTSTART:20241103T080000
END:STANDARD
BEGIN:DAYLIGHT
TZOFFSETFROM:-0700
TZOFFSETTO:-0600
TZNAME:MDT
DTSTART:20250309T090000
END:DAYLIGHT
BEGIN:STANDARD
TZOFFSETFROM:-0600
TZOFFSETTO:-0700
TZNAME:MST
DTSTART:20251102T080000
END:STANDARD
END:VTIMEZONE
BEGIN:VEVENT
DTSTART;TZID=America/Denver:20240713T110000
DTEND;TZID=America/Denver:20240713T130000
DTSTAMP:20260419T071637
CREATED:20240622T010231Z
LAST-MODIFIED:20240709T022809Z
UID:11846-1720868400-1720875600@hawkwatch.org
SUMMARY:Meet an Eagle at Brighton Days!
DESCRIPTION:Join us at the 2nd annual Brighton Days—a heritage celebration to honor the natural and cultural history of Big Cottonwood Canyon. That heritage includes birds of prey\, and we’re thrilled to bring one of our eagle Raptor Ambassadors this year to celebrate! \nThis event is made possible by Salt Lake County ZAP and the generosity of supporters like you.
URL:https://hawkwatch.org/event/meet-an-eagle-at-brighton-days/
LOCATION:Brighton Resort\, 8302 S Brighton Loop Rd\, Brighton\, 84121\, United States
CATEGORIES:Community Programs
ATTACH;FMTTYPE=image/png:https://hawkwatch.org/wp-content/uploads/2024/05/General-program.png
END:VEVENT
BEGIN:VEVENT
DTSTART;TZID=America/Denver:20240713T140000
DTEND;TZID=America/Denver:20240713T150000
DTSTAMP:20260419T071637
CREATED:20240521T235238Z
LAST-MODIFIED:20240709T022812Z
UID:11636-1720879200-1720882800@hawkwatch.org
SUMMARY:Chapman Branch Library Program
DESCRIPTION:Ever wonder what makes a raptor different than other birds? Come by the Chapman branch and find out! Meet our live raptor ambassadors and ask our educators all your burning raptor questions.\nThis is a family friendly event\, no tickets or registration required! \nThis event is made possible by Salt Lake County ZAP and the generosity of supporters like you.
URL:https://hawkwatch.org/event/chapman-branch-library-program/
LOCATION:Chapman Branch\, 577 S 900 W\, Salt Lake City\, UT\, 84104\, United States
CATEGORIES:Community Programs
ATTACH;FMTTYPE=image/png:https://hawkwatch.org/wp-content/uploads/2024/03/Event-Calendar-Images.png
END:VEVENT
END:VCALENDAR