BEGIN:VCALENDAR
VERSION:2.0
PRODID:-//HawkWatch International - ECPv6.15.16//NONSGML v1.0//EN
CALSCALE:GREGORIAN
METHOD:PUBLISH
X-WR-CALNAME:HawkWatch International
X-ORIGINAL-URL:https://hawkwatch.org
X-WR-CALDESC:Events for HawkWatch International
REFRESH-INTERVAL;VALUE=DURATION:PT1H
X-Robots-Tag:noindex
X-PUBLISHED-TTL:PT1H
BEGIN:VTIMEZONE
TZID:America/Denver
BEGIN:DAYLIGHT
TZOFFSETFROM:-0700
TZOFFSETTO:-0600
TZNAME:MDT
DTSTART:20230312T090000
END:DAYLIGHT
BEGIN:STANDARD
TZOFFSETFROM:-0600
TZOFFSETTO:-0700
TZNAME:MST
DTSTART:20231105T080000
END:STANDARD
BEGIN:DAYLIGHT
TZOFFSETFROM:-0700
TZOFFSETTO:-0600
TZNAME:MDT
DTSTART:20240310T090000
END:DAYLIGHT
BEGIN:STANDARD
TZOFFSETFROM:-0600
TZOFFSETTO:-0700
TZNAME:MST
DTSTART:20241103T080000
END:STANDARD
BEGIN:DAYLIGHT
TZOFFSETFROM:-0700
TZOFFSETTO:-0600
TZNAME:MDT
DTSTART:20250309T090000
END:DAYLIGHT
BEGIN:STANDARD
TZOFFSETFROM:-0600
TZOFFSETTO:-0700
TZNAME:MST
DTSTART:20251102T080000
END:STANDARD
END:VTIMEZONE
BEGIN:VEVENT
DTSTART;TZID=America/Denver:20240715T190000
DTEND;TZID=America/Denver:20240715T203000
DTSTAMP:20260419T071635
CREATED:20240520T211753Z
LAST-MODIFIED:20240716T045134Z
UID:11594-1721070000-1721075400@hawkwatch.org
SUMMARY:Birds in your Backyard - Wardle Fields Regional Park
DESCRIPTION:NOTE TIME CHANGE! The program is now running 7 – 8:30 pm due to heat to keep our birds safe. See you then! \nBirds (of prey) are in your backyard! Join HawkWatch International’s educators and Raptor Ambassadors for a short program about the birds of prey in your backyard. Afterward\, you’ll have the chance to meet one of the Ambassador birds\, and if you’re lucky\, they might even pose with you for a selfie! \n\nThis event is made possible by Salt Lake County ZAP and the generosity of supporters like you.
URL:https://hawkwatch.org/event/birds-in-your-backyard-buffdale24/
LOCATION:Wardle Fields Regional Park\, 14148 S 2700 W\, Bluffdale\, 84065\, United States
CATEGORIES:Community Programs
ATTACH;FMTTYPE=image/jpeg:https://hawkwatch.org/wp-content/uploads/2024/05/Park-Popups.jpg
END:VEVENT
END:VCALENDAR