BEGIN:VCALENDAR
VERSION:2.0
PRODID:-//HawkWatch International - ECPv6.15.16//NONSGML v1.0//EN
CALSCALE:GREGORIAN
METHOD:PUBLISH
X-WR-CALNAME:HawkWatch International
X-ORIGINAL-URL:https://hawkwatch.org
X-WR-CALDESC:Events for HawkWatch International
REFRESH-INTERVAL;VALUE=DURATION:PT1H
X-Robots-Tag:noindex
X-PUBLISHED-TTL:PT1H
BEGIN:VTIMEZONE
TZID:America/Denver
BEGIN:DAYLIGHT
TZOFFSETFROM:-0700
TZOFFSETTO:-0600
TZNAME:MDT
DTSTART:20230312T090000
END:DAYLIGHT
BEGIN:STANDARD
TZOFFSETFROM:-0600
TZOFFSETTO:-0700
TZNAME:MST
DTSTART:20231105T080000
END:STANDARD
BEGIN:DAYLIGHT
TZOFFSETFROM:-0700
TZOFFSETTO:-0600
TZNAME:MDT
DTSTART:20240310T090000
END:DAYLIGHT
BEGIN:STANDARD
TZOFFSETFROM:-0600
TZOFFSETTO:-0700
TZNAME:MST
DTSTART:20241103T080000
END:STANDARD
BEGIN:DAYLIGHT
TZOFFSETFROM:-0700
TZOFFSETTO:-0600
TZNAME:MDT
DTSTART:20250309T090000
END:DAYLIGHT
BEGIN:STANDARD
TZOFFSETFROM:-0600
TZOFFSETTO:-0700
TZNAME:MST
DTSTART:20251102T080000
END:STANDARD
END:VTIMEZONE
BEGIN:VEVENT
DTSTART;TZID=America/Denver:20240809T100000
DTEND;TZID=America/Denver:20240809T120000
DTSTAMP:20260419T085217
CREATED:20240522T000855Z
LAST-MODIFIED:20240709T022811Z
UID:11656-1723197600-1723204800@hawkwatch.org
SUMMARY:Kid's Days at Alta
DESCRIPTION:Alta Kid’s Day is a free event at Alta Ski Resort that offers kids hands-on activities related to education and the environment. Participants receive passports to get stamped by each organization\, and a completed passport receives a prize! \nThis event is made possible by Salt Lake County ZAP and the generosity of supporters like you.
URL:https://hawkwatch.org/event/kids-days-at-solitude-2/
LOCATION:Alta Lodge\, 10230 UT-210\, Alta\, UT\, 84092\, United States
CATEGORIES:Community Programs
ATTACH;FMTTYPE=image/png:https://hawkwatch.org/wp-content/uploads/2024/05/General-program.png
END:VEVENT
BEGIN:VEVENT
DTSTART;TZID=America/Denver:20240809T190000
DTEND;TZID=America/Denver:20240809T200000
DTSTAMP:20260419T085217
CREATED:20240622T010936Z
LAST-MODIFIED:20240709T022809Z
UID:11851-1723230000-1723233600@hawkwatch.org
SUMMARY:White Pine Library Program
DESCRIPTION:Ever wonder what makes a raptor different than other birds? Come by the White Pine Library in Nevada and find out! Meet our live raptor ambassadors and ask our educators all your burning raptor questions.\nThis is a family friendly event\, no tickets or registration required!
URL:https://hawkwatch.org/event/white-pine-library-program/
LOCATION:White Pine Library\, 950 Campton St\, Ely\, NV\, 89301\, United States
CATEGORIES:Community Programs
ATTACH;FMTTYPE=image/png:https://hawkwatch.org/wp-content/uploads/2024/03/Event-Calendar-Images.png
END:VEVENT
END:VCALENDAR