BEGIN:VCALENDAR
VERSION:2.0
PRODID:-//HawkWatch International - ECPv6.15.16//NONSGML v1.0//EN
CALSCALE:GREGORIAN
METHOD:PUBLISH
X-WR-CALNAME:HawkWatch International
X-ORIGINAL-URL:https://hawkwatch.org
X-WR-CALDESC:Events for HawkWatch International
REFRESH-INTERVAL;VALUE=DURATION:PT1H
X-Robots-Tag:noindex
X-PUBLISHED-TTL:PT1H
BEGIN:VTIMEZONE
TZID:America/Denver
BEGIN:DAYLIGHT
TZOFFSETFROM:-0700
TZOFFSETTO:-0600
TZNAME:MDT
DTSTART:20230312T090000
END:DAYLIGHT
BEGIN:STANDARD
TZOFFSETFROM:-0600
TZOFFSETTO:-0700
TZNAME:MST
DTSTART:20231105T080000
END:STANDARD
BEGIN:DAYLIGHT
TZOFFSETFROM:-0700
TZOFFSETTO:-0600
TZNAME:MDT
DTSTART:20240310T090000
END:DAYLIGHT
BEGIN:STANDARD
TZOFFSETFROM:-0600
TZOFFSETTO:-0700
TZNAME:MST
DTSTART:20241103T080000
END:STANDARD
BEGIN:DAYLIGHT
TZOFFSETFROM:-0700
TZOFFSETTO:-0600
TZNAME:MDT
DTSTART:20250309T090000
END:DAYLIGHT
BEGIN:STANDARD
TZOFFSETFROM:-0600
TZOFFSETTO:-0700
TZNAME:MST
DTSTART:20251102T080000
END:STANDARD
END:VTIMEZONE
BEGIN:VEVENT
DTSTART;TZID=America/Denver:20240819T180000
DTEND;TZID=America/Denver:20240819T200000
DTSTAMP:20260419T084621
CREATED:20240522T001036Z
LAST-MODIFIED:20240709T022811Z
UID:11659-1724090400-1724097600@hawkwatch.org
SUMMARY:Birds in your Backyard - Hunter Park
DESCRIPTION:Birds (of prey) are in your backyard! Join HawkWatch International’s educators and Raptor Ambassadors for a short program about the birds of prey in your backyard. Afterward\, you’ll have the chance to meet one of the Ambassador birds\, and if you’re lucky\, they might even pose with you for a selfie! \n\nThis event is made possible by Salt Lake County ZAP and the generosity of supporters like you.
URL:https://hawkwatch.org/event/birds-in-your-backyard-hunter-park/
LOCATION:Hunter Park\, 3500 S 5905 W\, West Valley\, 84128\, United States
CATEGORIES:Community Programs
ATTACH;FMTTYPE=image/jpeg:https://hawkwatch.org/wp-content/uploads/2024/05/Park-Popups.jpg
END:VEVENT
END:VCALENDAR