BEGIN:VCALENDAR
VERSION:2.0
PRODID:-//HawkWatch International - ECPv6.15.16//NONSGML v1.0//EN
CALSCALE:GREGORIAN
METHOD:PUBLISH
X-ORIGINAL-URL:https://hawkwatch.org
X-WR-CALDESC:Events for HawkWatch International
REFRESH-INTERVAL;VALUE=DURATION:PT1H
X-Robots-Tag:noindex
X-PUBLISHED-TTL:PT1H
BEGIN:VTIMEZONE
TZID:America/Denver
BEGIN:DAYLIGHT
TZOFFSETFROM:-0700
TZOFFSETTO:-0600
TZNAME:MDT
DTSTART:20230312T090000
END:DAYLIGHT
BEGIN:STANDARD
TZOFFSETFROM:-0600
TZOFFSETTO:-0700
TZNAME:MST
DTSTART:20231105T080000
END:STANDARD
BEGIN:DAYLIGHT
TZOFFSETFROM:-0700
TZOFFSETTO:-0600
TZNAME:MDT
DTSTART:20240310T090000
END:DAYLIGHT
BEGIN:STANDARD
TZOFFSETFROM:-0600
TZOFFSETTO:-0700
TZNAME:MST
DTSTART:20241103T080000
END:STANDARD
BEGIN:DAYLIGHT
TZOFFSETFROM:-0700
TZOFFSETTO:-0600
TZNAME:MDT
DTSTART:20250309T090000
END:DAYLIGHT
BEGIN:STANDARD
TZOFFSETFROM:-0600
TZOFFSETTO:-0700
TZNAME:MST
DTSTART:20251102T080000
END:STANDARD
END:VTIMEZONE
BEGIN:VEVENT
DTSTART;TZID=America/Denver:20240913T180000
DTEND;TZID=America/Denver:20240913T200000
DTSTAMP:20260419T121514
CREATED:20240806T011042Z
LAST-MODIFIED:20240812T222748Z
UID:12839-1726250400-1726257600@hawkwatch.org
SUMMARY:Historias con Halcones
DESCRIPTION:Esta Semana de Conservación Latina\, trae a toda la familia a HawkWatch International para Historias con Halcones. ¡Leeremos juntos un libro divertido sobre aves y conoceremos una de nuestras aves rapaces en vivo como la de la historia! Después de la hora del cuento\, puedes tomarte fotos con nuestras aves\, jugar algunos juegos divertidos\, y conocer a otros amantes de la naturaleza de habla hispana. Esperamos que nos acompañen y traigan a sus amigos. \nThis Latino Conservation Week\, bring the whole family to HawkWatch International for Reading with Raptors. We will read a fun book about birds together and meet a live raptor ambassador just like the one in the story! After storytime\, you can take photos with the bird\, play some fun games\, and meet other Spanish-speaking nature lovers. We hope you’ll join us and bring your friends.   \nRegístrate Ahora/Register  Now! \nEste evento es posible gracias a Salt Lake County ZAP y a la generosidad de seguidores como usted. \nThis event is made possible by Salt Lake County ZAP and the generosity of supporters like you. \n \n 
URL:https://hawkwatch.org/event/historias-con-halcones/
LOCATION:HawkWatch International\, 2240 S 900 E\, Salt Lake City\, UT\, 84106\, United States
ATTACH;FMTTYPE=image/jpeg:https://hawkwatch.org/wp-content/uploads/2024/08/Reading-with-Raptors-en-Espanol.jpg
END:VEVENT
END:VCALENDAR