BEGIN:VCALENDAR
VERSION:2.0
PRODID:-//HawkWatch International - ECPv6.15.16//NONSGML v1.0//EN
CALSCALE:GREGORIAN
METHOD:PUBLISH
X-ORIGINAL-URL:https://hawkwatch.org
X-WR-CALDESC:Events for HawkWatch International
REFRESH-INTERVAL;VALUE=DURATION:PT1H
X-Robots-Tag:noindex
X-PUBLISHED-TTL:PT1H
BEGIN:VTIMEZONE
TZID:America/Los_Angeles
BEGIN:DAYLIGHT
TZOFFSETFROM:-0800
TZOFFSETTO:-0700
TZNAME:PDT
DTSTART:20230312T100000
END:DAYLIGHT
BEGIN:STANDARD
TZOFFSETFROM:-0700
TZOFFSETTO:-0800
TZNAME:PST
DTSTART:20231105T090000
END:STANDARD
BEGIN:DAYLIGHT
TZOFFSETFROM:-0800
TZOFFSETTO:-0700
TZNAME:PDT
DTSTART:20240310T100000
END:DAYLIGHT
BEGIN:STANDARD
TZOFFSETFROM:-0700
TZOFFSETTO:-0800
TZNAME:PST
DTSTART:20241103T090000
END:STANDARD
BEGIN:DAYLIGHT
TZOFFSETFROM:-0800
TZOFFSETTO:-0700
TZNAME:PDT
DTSTART:20250309T100000
END:DAYLIGHT
BEGIN:STANDARD
TZOFFSETFROM:-0700
TZOFFSETTO:-0800
TZNAME:PST
DTSTART:20251102T090000
END:STANDARD
END:VTIMEZONE
BEGIN:VEVENT
DTSTART;TZID=America/Los_Angeles:20240921T100000
DTEND;TZID=America/Los_Angeles:20240921T170000
DTSTAMP:20260419T103249
CREATED:20240730T214539Z
LAST-MODIFIED:20240815T042525Z
UID:12816-1726912800-1726938000@hawkwatch.org
SUMMARY:Birding at the Butte
DESCRIPTION:When we’re asked the best place to hawkwatch\, we always have the same answer: wherever you can find migrating hawks. Still\, some spots stand out\, like the Bonney Butte HawkWatch.\n\nJoin the HawkWatch International staff and this year’s crew for a day of Birding at the Butte! You’ll have the chance to practice your ID skills as raptors migrate past iconic Mt. Hood and see LIVE raptors up close and personal. You can even take home a piece of Mt. Hood by purchasing this year’s migration t-shirt\, which celebrates 30 years of hawkwatching at Bonney Butte. \n\nRegistration is requested\, but not required\, for this free\, family-friendly event. This helps us plan for how many hawkwatchers to expect! \n \nREGISTER HERE
URL:https://hawkwatch.org/event/field-trip-to-bonney-butte-hawkwatch/
LOCATION:Bonney Butte HawkWatch
CATEGORIES:Community Programs
ATTACH;FMTTYPE=image/png:https://hawkwatch.org/wp-content/uploads/2024/07/bb-field-trip-1.png
END:VEVENT
END:VCALENDAR