BEGIN:VCALENDAR
VERSION:2.0
PRODID:-//HawkWatch International - ECPv6.15.16//NONSGML v1.0//EN
CALSCALE:GREGORIAN
METHOD:PUBLISH
X-WR-CALNAME:HawkWatch International
X-ORIGINAL-URL:https://hawkwatch.org
X-WR-CALDESC:Events for HawkWatch International
REFRESH-INTERVAL;VALUE=DURATION:PT1H
X-Robots-Tag:noindex
X-PUBLISHED-TTL:PT1H
BEGIN:VTIMEZONE
TZID:America/Chicago
BEGIN:DAYLIGHT
TZOFFSETFROM:-0600
TZOFFSETTO:-0500
TZNAME:CDT
DTSTART:20230312T080000
END:DAYLIGHT
BEGIN:STANDARD
TZOFFSETFROM:-0500
TZOFFSETTO:-0600
TZNAME:CST
DTSTART:20231105T070000
END:STANDARD
BEGIN:DAYLIGHT
TZOFFSETFROM:-0600
TZOFFSETTO:-0500
TZNAME:CDT
DTSTART:20240310T080000
END:DAYLIGHT
BEGIN:STANDARD
TZOFFSETFROM:-0500
TZOFFSETTO:-0600
TZNAME:CST
DTSTART:20241103T070000
END:STANDARD
BEGIN:DAYLIGHT
TZOFFSETFROM:-0600
TZOFFSETTO:-0500
TZNAME:CDT
DTSTART:20250309T080000
END:DAYLIGHT
BEGIN:STANDARD
TZOFFSETFROM:-0500
TZOFFSETTO:-0600
TZNAME:CST
DTSTART:20251102T070000
END:STANDARD
END:VTIMEZONE
BEGIN:VEVENT
DTSTART;TZID=America/Chicago:20240927T090000
DTEND;TZID=America/Chicago:20240929T170000
DTSTAMP:20260419T102929
CREATED:20240601T000721Z
LAST-MODIFIED:20240925T232702Z
UID:11785-1727427600-1727629200@hawkwatch.org
SUMMARY:Celebration of Flight
DESCRIPTION:Join HawkWatch International on September 27-29\, 2024\, at the Celebration of Flight at the Corpus Christi HawkWatch. \nThis festival is a celebration of raptor migration of the Corpus Christi HawkWatch at Hazel Bazemore County Park. This is a family-friendly event with free activities in the park that coincide with peak Broad-winged Hawk migration in September. Thanks to our partners at the Audubon Outdoor Club of Corpus Christi and the many volunteers who make this festival possible. \nHawk migration is a true spectacle of the natural world and Corpus Christi HawkWatch has the largest and most diverse in the country. All events will be held at Hazel Bazemore County Park and are open to the public free of charge. Volunteers will be on hand to help identify hawks for visitors. \nVendors\, raptor merchandise\, and food trucks will be present throughout the festival. \nCan’t get enough and want to see more birds? Join us for a four-day birding tour ahead of the festival! You can learn more here. \nSchedule\nEvery day\, 9:00 AM to 5:00 PM: HawkWatching at the platform\nSaturday and Sunday\, 9:00 AM to 5:00PM: Children’s activities \n\nTexas Parks & Recreation\n\nFriday \n7:30am Guided Bird Walk \n11am Education Program by HawkWatch International \n2:30pm Live Raptor Program by Sky Kings Falconry \nSaturday \n7:30am Guided Bird Walk \n10:30am Live Raptor Program by Sky Kings Falconry \n11:30am Owl Pellet Dissection with HawkWatch International \n1:30pm Education Program by HawkWatch International \n3:30pm Live Raptor Program by Sky Kings Falconry \nSunday \n7:30am Guided Bird Walk \n9:30am Education Program by HawkWatch International \n10:30am Live Raptor Program by Sky Kings Falconry \n11:30am Owl Pellet Dissection with HawkWatch International \n1:00pm Native American Blessing Ceremony \n1:30pm Danza Azteca \nDirections to Hazel Bazemore County Park\nTake FM624 west from SH77 for about 1 mile. Take a right onto County Road 69 at the stop light (look for the park sign)\, which takes you to the park. Go in the park entrance and follow Highway 69 around the park. You cannot turn left into the park\, as you may have in years past.  \nLooking for Accommodations?\nYou can get a hawkwatcher discount at the Best Western Northwest Corpus Christi Inn & Suites! King rooms are just $99/night\, and king suites with kitchenettes are $109/night! You must call to receive the discount: (361) 241-6363 \nLocation: 3838 Interstate Highway 69 Access Road Corpus Christi\, Texas 78410 United States \nThank you to our sponsors and partners\n 
URL:https://hawkwatch.org/event/celebration-of-flight-2024/
LOCATION:Corpus Christi HawkWatch\, 4343 Co Rd 69\, Corpus Christi\, TX\, 78410\, United States
CATEGORIES:Community Programs
ATTACH;FMTTYPE=image/png:https://hawkwatch.org/wp-content/uploads/2024/05/CELEBRATION-OF-FLIGHT-PLACEHOLDER.png
END:VEVENT
END:VCALENDAR