BEGIN:VCALENDAR
VERSION:2.0
PRODID:-//HawkWatch International - ECPv6.15.16//NONSGML v1.0//EN
CALSCALE:GREGORIAN
METHOD:PUBLISH
X-ORIGINAL-URL:https://hawkwatch.org
X-WR-CALDESC:Events for HawkWatch International
REFRESH-INTERVAL;VALUE=DURATION:PT1H
X-Robots-Tag:noindex
X-PUBLISHED-TTL:PT1H
BEGIN:VTIMEZONE
TZID:UTC
BEGIN:STANDARD
TZOFFSETFROM:+0000
TZOFFSETTO:+0000
TZNAME:UTC
DTSTART:20230101T000000
END:STANDARD
END:VTIMEZONE
BEGIN:VEVENT
DTSTART;TZID=UTC:20241026T100000
DTEND;TZID=UTC:20241026T130000
DTSTAMP:20260419T121403
CREATED:20240826T214724Z
LAST-MODIFIED:20240826T214724Z
UID:12960-1729936800-1729947600@hawkwatch.org
SUMMARY:Antelope Island Bison Roundup 2024
DESCRIPTION:Join us at the 2024 annual bison roundup at Antelope Island\, an up-close example of conservation and land management practices happening in your backyard! Come meet a Raptor Ambassador\, find out about the threats raptors are facing in our home state\, and discover what kinds of threatened and endangered raptors call Garr Ranch home. \nThis event requires an entrance fee handled by the state park. Please visit their website for the fee schedule\, a list of other vendors\, and the roundup schedule: https://stateparks.utah.gov/parks/antelope-island/bison-roundup/ \nThis event is made possible by the Lawrence T. and Janet T. Dee Foundation and the generosity of supporters like you.
URL:https://hawkwatch.org/event/antelope-island-bison-roundup-2024/
LOCATION:Antelope Island State Park\, 4528 West 1700 South\, Syracuse\, UT\, 84075\, United States
CATEGORIES:Community Programs
ATTACH;FMTTYPE=image/png:https://hawkwatch.org/wp-content/uploads/2024/05/General-program.png
END:VEVENT
END:VCALENDAR