BEGIN:VCALENDAR
VERSION:2.0
PRODID:-//HawkWatch International - ECPv6.15.16//NONSGML v1.0//EN
CALSCALE:GREGORIAN
METHOD:PUBLISH
X-WR-CALNAME:HawkWatch International
X-ORIGINAL-URL:https://hawkwatch.org
X-WR-CALDESC:Events for HawkWatch International
REFRESH-INTERVAL;VALUE=DURATION:PT1H
X-Robots-Tag:noindex
X-PUBLISHED-TTL:PT1H
BEGIN:VTIMEZONE
TZID:America/Denver
BEGIN:DAYLIGHT
TZOFFSETFROM:-0700
TZOFFSETTO:-0600
TZNAME:MDT
DTSTART:20230312T090000
END:DAYLIGHT
BEGIN:STANDARD
TZOFFSETFROM:-0600
TZOFFSETTO:-0700
TZNAME:MST
DTSTART:20231105T080000
END:STANDARD
BEGIN:DAYLIGHT
TZOFFSETFROM:-0700
TZOFFSETTO:-0600
TZNAME:MDT
DTSTART:20240310T090000
END:DAYLIGHT
BEGIN:STANDARD
TZOFFSETFROM:-0600
TZOFFSETTO:-0700
TZNAME:MST
DTSTART:20241103T080000
END:STANDARD
BEGIN:DAYLIGHT
TZOFFSETFROM:-0700
TZOFFSETTO:-0600
TZNAME:MDT
DTSTART:20250309T090000
END:DAYLIGHT
BEGIN:STANDARD
TZOFFSETFROM:-0600
TZOFFSETTO:-0700
TZNAME:MST
DTSTART:20251102T080000
END:STANDARD
END:VTIMEZONE
BEGIN:VEVENT
DTSTART;TZID=America/Denver:20241028T180000
DTEND;TZID=America/Denver:20241028T200000
DTSTAMP:20260419T121207
CREATED:20240725T023407Z
LAST-MODIFIED:20241028T194226Z
UID:12724-1730138400-1730145600@hawkwatch.org
SUMMARY:Owl-o-ween 2024 with HawkWatch International
DESCRIPTION:NEW: 7:00pm Owl Pellet Dissection just scheduled! Reserve your spot here.\n6:30pm Owl Pellet Dissection now SOLD OUT. Reserve your spot on the waitlist here. \nWhoo needs trick or treating when there are LIVE OWLS you could be meeting? \nJoin HawkWatch International on Monday\, October 28th from 6-8pm to celebrate Owl-o-ween with our owl-dorable Raptor Ambassadors. During this FREE\, family-friendly event\, you’ll have the chance for up-close encounters with live owls\, trick-or-treating\, and more. Costumes are highly recommended (please do not wear an inflatable costume as the birds do not like them)! \nAnd for those whoo want to get a little spookier\, you can purchase an owl pellet to dissect with help from our educators. Owl pellets are extremely limited\, so reserve yours ASAP if you’d like to purchase this add-on! \nREGISTER NOW \nThis event is made possible by Salt Lake County ZAP and the generosity of supporters like you. \n \n  \nOwl Pellet Dissection Details \n\nIndividual owl pellets can be dissected by one person; individuals who need assistance may have one individual join them for the activity.\nFamily packs are available and include (4) owl pellets that may be dissected by up to (4) people.\nOwl pellets will be dissected in two shifts\, one at 6:30pm and one at 7:30pm\, so please be sure to select the time that works best for you when ordering. If we have any no-shows\, walk-ins will be offered a pellet.\nIf you reserve an owl pellet\, please plan to arrive 15 minutes prior to the start of your dissection time. If any owl pellets remain unclaimed at the start of the dissection\, they will be offered to walk-ins\, and you will forfeit your pellet.
URL:https://hawkwatch.org/event/owloween24/
LOCATION:HawkWatch International\, 2240 S 900 E\, Salt Lake City\, UT\, 84106\, United States
ATTACH;FMTTYPE=image/png:https://hawkwatch.org/wp-content/uploads/2024/07/owloween-event.png
END:VEVENT
END:VCALENDAR