BEGIN:VCALENDAR
VERSION:2.0
PRODID:-//HawkWatch International - ECPv6.15.16//NONSGML v1.0//EN
CALSCALE:GREGORIAN
METHOD:PUBLISH
X-ORIGINAL-URL:https://hawkwatch.org
X-WR-CALDESC:Events for HawkWatch International
REFRESH-INTERVAL;VALUE=DURATION:PT1H
X-Robots-Tag:noindex
X-PUBLISHED-TTL:PT1H
BEGIN:VTIMEZONE
TZID:America/Denver
BEGIN:DAYLIGHT
TZOFFSETFROM:-0700
TZOFFSETTO:-0600
TZNAME:MDT
DTSTART:20240310T090000
END:DAYLIGHT
BEGIN:STANDARD
TZOFFSETFROM:-0600
TZOFFSETTO:-0700
TZNAME:MST
DTSTART:20241103T080000
END:STANDARD
BEGIN:DAYLIGHT
TZOFFSETFROM:-0700
TZOFFSETTO:-0600
TZNAME:MDT
DTSTART:20250309T090000
END:DAYLIGHT
BEGIN:STANDARD
TZOFFSETFROM:-0600
TZOFFSETTO:-0700
TZNAME:MST
DTSTART:20251102T080000
END:STANDARD
BEGIN:DAYLIGHT
TZOFFSETFROM:-0700
TZOFFSETTO:-0600
TZNAME:MDT
DTSTART:20260308T090000
END:DAYLIGHT
BEGIN:STANDARD
TZOFFSETFROM:-0600
TZOFFSETTO:-0700
TZNAME:MST
DTSTART:20261101T080000
END:STANDARD
END:VTIMEZONE
BEGIN:VEVENT
DTSTART;TZID=America/Denver:20250222T100000
DTEND;TZID=America/Denver:20250222T140000
DTSTAMP:20260421T022918
CREATED:20241223T205537Z
LAST-MODIFIED:20250207T150239Z
UID:13714-1740218400-1740232800@hawkwatch.org
SUMMARY:Winter Raptor Field Trip
DESCRIPTION:SOLD OUT \nSeasoned and beginner birders\, you’re invited to a day of winter hawkwatching alongside HawkWatch International scientists! Spend the day at Farmington Bay for a chance to talk with scientists leading HWI’s local conservation work and to see and photograph raptors such as Northern Harriers\, American Kestrels\, and Bald Eagles\, along with plenty of shorebirds and ducks. \nThis event requires registration. With your ticket\, you will receive a boxed lunch and transportation from the Eccles Wildlife Education Center. The field trip will begin promptly at 10 AM\, so please arrive at the education center 10 to 15 minutes early. \nBe sure to pack sun protection\, warm clothing\, binoculars\, and water. \n\nStandard Ticket: $80\nVIP (Very Informed Person) Ticket: $95 Includes our neck gaiter to keep you warm and a Sibley pocket guide to western raptors.\n\nSOLD OUT; Reserve a spot on the wait list here
URL:https://hawkwatch.org/event/winter-raptor-field-trip/
LOCATION:George S. and Dolores Doré Eccles Wildlife Education Center\, 1157 South Waterfowl Way\, Farmington\, UT\, 84025\, United States
CATEGORIES:Community Programs
ATTACH;FMTTYPE=image/png:https://hawkwatch.org/wp-content/uploads/2024/12/winter-hawkwatching-trip.png
END:VEVENT
END:VCALENDAR