BEGIN:VCALENDAR
VERSION:2.0
PRODID:-//HawkWatch International - ECPv6.15.16//NONSGML v1.0//EN
CALSCALE:GREGORIAN
METHOD:PUBLISH
X-WR-CALNAME:HawkWatch International
X-ORIGINAL-URL:https://hawkwatch.org
X-WR-CALDESC:Events for HawkWatch International
REFRESH-INTERVAL;VALUE=DURATION:PT1H
X-Robots-Tag:noindex
X-PUBLISHED-TTL:PT1H
BEGIN:VTIMEZONE
TZID:America/Chicago
BEGIN:DAYLIGHT
TZOFFSETFROM:-0600
TZOFFSETTO:-0500
TZNAME:CDT
DTSTART:20220313T080000
END:DAYLIGHT
BEGIN:STANDARD
TZOFFSETFROM:-0500
TZOFFSETTO:-0600
TZNAME:CST
DTSTART:20221106T070000
END:STANDARD
BEGIN:DAYLIGHT
TZOFFSETFROM:-0600
TZOFFSETTO:-0500
TZNAME:CDT
DTSTART:20230312T080000
END:DAYLIGHT
BEGIN:STANDARD
TZOFFSETFROM:-0500
TZOFFSETTO:-0600
TZNAME:CST
DTSTART:20231105T070000
END:STANDARD
BEGIN:DAYLIGHT
TZOFFSETFROM:-0600
TZOFFSETTO:-0500
TZNAME:CDT
DTSTART:20240310T080000
END:DAYLIGHT
BEGIN:STANDARD
TZOFFSETFROM:-0500
TZOFFSETTO:-0600
TZNAME:CST
DTSTART:20241103T070000
END:STANDARD
END:VTIMEZONE
BEGIN:VEVENT
DTSTART;TZID=America/Chicago:20230905T173000
DTEND;TZID=America/Chicago:20230905T183000
DTSTAMP:20260422T161740
CREATED:20230818T223402Z
LAST-MODIFIED:20240709T022820Z
UID:9311-1693935000-1693938600@hawkwatch.org
SUMMARY:Bird Walks at the Butte
DESCRIPTION:Have you ever tried to get into birding but weren’t sure how? Want to learn how to identify a bird by its song? Join one of our experts for a guided birding walk around Red Butte Garden to learn more about local birds and how to identify them. \nRegistration for this program is handled by our partner\, Red Butte Gardens. Click here to register: https://redbuttegarden.org/adult-education/bird-walk-with-hawkwatch-international/ \nThis event is made possible by Salt Lake County ZAP and the generosity of supporters like you.
URL:https://hawkwatch.org/event/bird-walks-at-the-butte/
LOCATION:Red Butte Garden\, 300 Wakara Way\, Salt Lake City\, UT\, 84108\, United States
CATEGORIES:Community Programs
ATTACH;FMTTYPE=image/png:https://hawkwatch.org/wp-content/uploads/2023/08/Birding-at-the-Butte.png
END:VEVENT
BEGIN:VEVENT
DTSTART;TZID=America/Chicago:20230812T100000
DTEND;TZID=America/Chicago:20230812T110000
DTSTAMP:20260422T161740
CREATED:20230707T042502Z
LAST-MODIFIED:20240709T022833Z
UID:5498-1691834400-1691838000@hawkwatch.org
SUMMARY:Reading with Raptors
DESCRIPTION:Join HawkWatch International at the Discovery Gateway Museum for Reading with Raptors! During this monthly program\, children meet one of HWI’s Raptor Ambassadors while reading a storybook that matches the bird they’ve just met. They’ll learn about raptors and enjoy a great story. Included with admission to the museum; no registration is necessary! \nThis program is made possible by Salt Lake County ZAP and the generosity of supporters like you.
URL:https://hawkwatch.org/event/5498/
LOCATION:Discovery Gateway Children’s Museum\, 444 W 100 S\, Salt Lake City\, UT\, 84101\, United States
CATEGORIES:Community Programs
ATTACH;FMTTYPE=image/png:https://hawkwatch.org/wp-content/uploads/2023/07/Reading-with-Raptors.png
END:VEVENT
BEGIN:VEVENT
DTSTART;TZID=America/Chicago:20231025T183000
DTEND;TZID=America/Chicago:20231025T200000
DTSTAMP:20260422T161740
CREATED:20230916T035802Z
LAST-MODIFIED:20240709T022819Z
UID:9672-1698258600-1698264000@hawkwatch.org
SUMMARY:Studying the Endangered Red Goshawk and Australia’s Other Poorly Understood Raptors
DESCRIPTION:Australia’s rarest raptor—the Red Goshawk—is facing extinction. Through his research\, raptor biologist Chris MacColl has discovered that the endangered bird has lost a third of its historical range over the last four decades. Join him to learn more about this incredible species and what he’s learned about it through the course of his dissertation. \nJoin us at Hawkwatch International headquarters for this glimpse into the state of raptor conservation in Australia. REGISTER HERE! \nThis event is made possible by Salt Lake County ZAP and the generosity of supporters like you.
URL:https://hawkwatch.org/event/studying-the-endangered-red-goshawk-and-australias-other-poorly-understood-raptors/
LOCATION:HawkWatch International\, 2240 S 900 E\, Salt Lake City\, UT\, 84106\, United States
CATEGORIES:Community Programs
ATTACH;FMTTYPE=image/jpeg:https://hawkwatch.org/wp-content/uploads/2023/09/IMG_5819-2-scaled.jpg
END:VEVENT
BEGIN:VEVENT
DTSTART;TZID=America/Chicago:20231030T180000
DTEND;TZID=America/Chicago:20231030T200000
DTSTAMP:20260422T161740
CREATED:20231011T233650Z
LAST-MODIFIED:20240709T022818Z
UID:9815-1698688800-1698696000@hawkwatch.org
SUMMARY:Celebrate Owl-o-ween with HawkWatch International!
DESCRIPTION:Whoo’s new at HawkWatch International? Meet our newest Raptor Ambassador\, a Barn Owl whoo will be named during an Owl-o-ween celebration on Monday\, October 30th\, from 6-8pm. This FREE\, family-friendly event will feature trick-or-treating for the kids\, opportunities for up-close encounters with live owls\, and more. Costumes are highly recommended! \nAnd for those whoo want to get a little spookier\, you can purchase an owl pellet to dissect with help from our educators. Owl pellets are extremely limited\, so reserve yours ASAP if you’d like to purchase this add-on!  \nREGISTER NOW \nThis event is made possible by Salt Lake County ZAP and the generosity of supporters like you. \n \n \n\nOwl Pellet Dissection Details \n\nEach owl pellet can be dissected by up to four participants\, but you’re welcome to reserve multiple if you’d prefer not to share.\nOwl pellets will be dissected in two shifts\, one at 6:30pm and one at 7:30pm\, so please be sure to select the time that works best for you when ordering.\nSPACES FOR the 6:30PM SHIFT ARE SOLD OUT. If we have any no-shows\, walk-ins will be offered a pellet.\n\nIf you reserve an owl pellet\, please plan to arrive 15 minutes prior to the start of your dissection time. If any owl pellets remain unclaimed at the start of the dissection\, they will be offered to walk-ins\, and you will forfeit your pellet. 
URL:https://hawkwatch.org/event/owloween23/
LOCATION:HawkWatch International\, 2240 S 900 E\, Salt Lake City\, UT\, 84106\, United States
CATEGORIES:Community Programs,Fundraisers
ATTACH;FMTTYPE=image/png:https://hawkwatch.org/wp-content/uploads/2023/10/Owl-o-Ween.png
END:VEVENT
END:VCALENDAR