BEGIN:VCALENDAR
VERSION:2.0
PRODID:-//HawkWatch International - ECPv6.15.16//NONSGML v1.0//EN
CALSCALE:GREGORIAN
METHOD:PUBLISH
X-WR-CALNAME:HawkWatch International
X-ORIGINAL-URL:https://hawkwatch.org
X-WR-CALDESC:Events for HawkWatch International
REFRESH-INTERVAL;VALUE=DURATION:PT1H
X-Robots-Tag:noindex
X-PUBLISHED-TTL:PT1H
BEGIN:VTIMEZONE
TZID:America/Denver
BEGIN:DAYLIGHT
TZOFFSETFROM:-0700
TZOFFSETTO:-0600
TZNAME:MDT
DTSTART:20240310T090000
END:DAYLIGHT
BEGIN:STANDARD
TZOFFSETFROM:-0600
TZOFFSETTO:-0700
TZNAME:MST
DTSTART:20241103T080000
END:STANDARD
BEGIN:DAYLIGHT
TZOFFSETFROM:-0700
TZOFFSETTO:-0600
TZNAME:MDT
DTSTART:20250309T090000
END:DAYLIGHT
BEGIN:STANDARD
TZOFFSETFROM:-0600
TZOFFSETTO:-0700
TZNAME:MST
DTSTART:20251102T080000
END:STANDARD
BEGIN:DAYLIGHT
TZOFFSETFROM:-0700
TZOFFSETTO:-0600
TZNAME:MDT
DTSTART:20260308T090000
END:DAYLIGHT
BEGIN:STANDARD
TZOFFSETFROM:-0600
TZOFFSETTO:-0700
TZNAME:MST
DTSTART:20261101T080000
END:STANDARD
END:VTIMEZONE
BEGIN:VEVENT
DTSTART;TZID=America/Denver:20250607T130000
DTEND;TZID=America/Denver:20250607T150000
DTSTAMP:20260422T034110
CREATED:20250528T212255Z
LAST-MODIFIED:20250528T212316Z
UID:14774-1749301200-1749308400@hawkwatch.org
SUMMARY:HWI at Sailfest
DESCRIPTION:After a phenomenal collaboration last year\, the Great Salt Lake Yacht Club and Grow the Flow are once again hosting Sailfest on June 7th. This free\, day-long festival will include live music\, booths\, and a sailboat regatta to bring attention and resources to the race to restore Great Salt Lake. HWI will be there from 1-3 PM with a Raptor Ambassador. \nThis event is appropriate for all ages\, and we hope you invite your friends\, family\, and frenemies! \n\nVisit this page for more information: https://growtheflowutah.org/gsl-sailfest/ \n\nWhen: June 7th\, 2025\, 10am-4pm (main activities from 12-4pm) \nWhere: The Marina at Great Salt Lake \nWhat: A sailboat race and festival featuring free fun for all ages
URL:https://hawkwatch.org/event/hwi-at-sailfest/
LOCATION:Great Salt Lake Marina\, 13312 W 1075 S\, Magna\, 84044\, United States
CATEGORIES:Community Programs
ATTACH;FMTTYPE=image/png:https://hawkwatch.org/wp-content/uploads/2024/05/General-program.png
END:VEVENT
BEGIN:VEVENT
DTSTART;TZID=America/Denver:20250607T150000
DTEND;TZID=America/Denver:20250607T160000
DTSTAMP:20260422T034110
CREATED:20250514T215610Z
LAST-MODIFIED:20250514T215610Z
UID:14701-1749308400-1749312000@hawkwatch.org
SUMMARY:Raptors at the Salt Lake City Library
DESCRIPTION:Ever wonder what makes a raptor different than other birds? Come by the Salt Lake City Library and find out! Meet our live raptor ambassadors and ask our educators all your burning raptor questions.\nThis is a family-friendly event\, no tickets or registration required! \nThis event is made possible by Salt Lake County ZAP and the generosity of supporters like you.
URL:https://hawkwatch.org/event/raptors-at-the-salt-lake-city-library/
LOCATION:Salt Lake City Public Library\, 210 E 400 S\, Salt Lake City\, UT\, 84111\, United States
CATEGORIES:Community Programs
ATTACH;FMTTYPE=image/png:https://hawkwatch.org/wp-content/uploads/2024/10/Library-Programs.png
END:VEVENT
END:VCALENDAR