BEGIN:VCALENDAR
VERSION:2.0
PRODID:-//HawkWatch International - ECPv6.15.16//NONSGML v1.0//EN
CALSCALE:GREGORIAN
METHOD:PUBLISH
X-ORIGINAL-URL:https://hawkwatch.org
X-WR-CALDESC:Events for HawkWatch International
REFRESH-INTERVAL;VALUE=DURATION:PT1H
X-Robots-Tag:noindex
X-PUBLISHED-TTL:PT1H
BEGIN:VTIMEZONE
TZID:America/Denver
BEGIN:DAYLIGHT
TZOFFSETFROM:-0700
TZOFFSETTO:-0600
TZNAME:MDT
DTSTART:20250309T090000
END:DAYLIGHT
BEGIN:STANDARD
TZOFFSETFROM:-0600
TZOFFSETTO:-0700
TZNAME:MST
DTSTART:20251102T080000
END:STANDARD
BEGIN:DAYLIGHT
TZOFFSETFROM:-0700
TZOFFSETTO:-0600
TZNAME:MDT
DTSTART:20260308T090000
END:DAYLIGHT
BEGIN:STANDARD
TZOFFSETFROM:-0600
TZOFFSETTO:-0700
TZNAME:MST
DTSTART:20261101T080000
END:STANDARD
BEGIN:DAYLIGHT
TZOFFSETFROM:-0700
TZOFFSETTO:-0600
TZNAME:MDT
DTSTART:20270314T090000
END:DAYLIGHT
BEGIN:STANDARD
TZOFFSETFROM:-0600
TZOFFSETTO:-0700
TZNAME:MST
DTSTART:20271107T080000
END:STANDARD
END:VTIMEZONE
BEGIN:VEVENT
DTSTART;TZID=America/Denver:20260213T200000
DTEND;TZID=America/Denver:20260213T220000
DTSTAMP:20260421T151440
CREATED:20260106T181542Z
LAST-MODIFIED:20260210T231924Z
UID:16071-1771012800-1771020000@hawkwatch.org
SUMMARY:Raunchy Raptors
DESCRIPTION:Whether you’re celebrating your tweet-heart or want to revel with a friend after escaping from the one rat got away\, this event is for you! Join educators and our Raptor Ambassadors for a “tongue in beak” program that delves into the sweet and spicy sex lives of raptors. After the program\, enjoy dessert and mocktails before choosing from two photobooth options to commemorate the evening: a cuddly owlentine or a grim buteo bloodbath. This event will be intimate\, capping at 30 participants\, and is adults-only. You must be 18+ to attend! \nTickets\n$45/person\, which also includes a $20 Talontine of your choosing. Your ticket fee directly supports the care of our Raptor Ambassadors. \nClick here to purchase your ticket before someone else gobbles it up! Spaces are very limited! \nTreats Kindly Provided By\nParfé Diem\nRuby Snap\nSugarhouse Trader Joe’s \n   \nThis event is made possible by Salt Lake County ZAP and the generosity of supporters like you.
URL:https://hawkwatch.org/event/raunchy-raptors/
LOCATION:HawkWatch International\, 2240 S 900 E\, Salt Lake City\, UT\, 84106\, United States
CATEGORIES:Community Programs
ATTACH;FMTTYPE=image/png:https://hawkwatch.org/wp-content/uploads/2026/01/Talon-tines-Day.png
END:VEVENT
END:VCALENDAR