BEGIN:VCALENDAR
VERSION:2.0
PRODID:-//HawkWatch International - ECPv6.15.16//NONSGML v1.0//EN
CALSCALE:GREGORIAN
METHOD:PUBLISH
X-WR-CALNAME:HawkWatch International
X-ORIGINAL-URL:https://hawkwatch.org
X-WR-CALDESC:Events for HawkWatch International
REFRESH-INTERVAL;VALUE=DURATION:PT1H
X-Robots-Tag:noindex
X-PUBLISHED-TTL:PT1H
BEGIN:VTIMEZONE
TZID:America/Denver
BEGIN:DAYLIGHT
TZOFFSETFROM:-0700
TZOFFSETTO:-0600
TZNAME:MDT
DTSTART:20220313T090000
END:DAYLIGHT
BEGIN:STANDARD
TZOFFSETFROM:-0600
TZOFFSETTO:-0700
TZNAME:MST
DTSTART:20221106T080000
END:STANDARD
BEGIN:DAYLIGHT
TZOFFSETFROM:-0700
TZOFFSETTO:-0600
TZNAME:MDT
DTSTART:20230312T090000
END:DAYLIGHT
BEGIN:STANDARD
TZOFFSETFROM:-0600
TZOFFSETTO:-0700
TZNAME:MST
DTSTART:20231105T080000
END:STANDARD
BEGIN:DAYLIGHT
TZOFFSETFROM:-0700
TZOFFSETTO:-0600
TZNAME:MDT
DTSTART:20240310T090000
END:DAYLIGHT
BEGIN:STANDARD
TZOFFSETFROM:-0600
TZOFFSETTO:-0700
TZNAME:MST
DTSTART:20241103T080000
END:STANDARD
END:VTIMEZONE
BEGIN:VTIMEZONE
TZID:America/Chicago
BEGIN:DAYLIGHT
TZOFFSETFROM:-0600
TZOFFSETTO:-0500
TZNAME:CDT
DTSTART:20220313T080000
END:DAYLIGHT
BEGIN:STANDARD
TZOFFSETFROM:-0500
TZOFFSETTO:-0600
TZNAME:CST
DTSTART:20221106T070000
END:STANDARD
BEGIN:DAYLIGHT
TZOFFSETFROM:-0600
TZOFFSETTO:-0500
TZNAME:CDT
DTSTART:20230312T080000
END:DAYLIGHT
BEGIN:STANDARD
TZOFFSETFROM:-0500
TZOFFSETTO:-0600
TZNAME:CST
DTSTART:20231105T070000
END:STANDARD
BEGIN:DAYLIGHT
TZOFFSETFROM:-0600
TZOFFSETTO:-0500
TZNAME:CDT
DTSTART:20240310T080000
END:DAYLIGHT
BEGIN:STANDARD
TZOFFSETFROM:-0500
TZOFFSETTO:-0600
TZNAME:CST
DTSTART:20241103T070000
END:STANDARD
END:VTIMEZONE
BEGIN:VEVENT
DTSTART;TZID=America/Denver:20230812T120000
DTEND;TZID=America/Denver:20230812T200000
DTSTAMP:20260419T210222
CREATED:20230707T233853Z
LAST-MODIFIED:20240709T022833Z
UID:5525-1691841600-1691870400@hawkwatch.org
SUMMARY:HWI at Craft Lake City DIY Fest
DESCRIPTION:#LeaveyourMARK by making a free bird-related craft with us at the Mark Miller Subaru booth at the Craft Lake City DIY Festival! We’ll have knowledgeable volunteers on hand to lead you in a craft\, teach you about raptors\, and share more about how you can play a role in the raptor conservation happening in the Salt Lake Valley and beyond. \nTo find out more about the other vendors as well as ticket prices\, please visit the Craft Lake City website at this link!  And don’t forget\, kids under 12 get in for free!
URL:https://hawkwatch.org/event/live-raptors-at-craft-lake-city-diy-fest-2-2/
LOCATION:Utah State Fairpark\, 155 1000 W\, Salt Lake City\, UT\, 84116\, United States
END:VEVENT
BEGIN:VEVENT
DTSTART;TZID=America/Chicago:20230812T100000
DTEND;TZID=America/Chicago:20230812T110000
DTSTAMP:20260419T210222
CREATED:20230707T042502Z
LAST-MODIFIED:20240709T022833Z
UID:5498-1691834400-1691838000@hawkwatch.org
SUMMARY:Reading with Raptors
DESCRIPTION:Join HawkWatch International at the Discovery Gateway Museum for Reading with Raptors! During this monthly program\, children meet one of HWI’s Raptor Ambassadors while reading a storybook that matches the bird they’ve just met. They’ll learn about raptors and enjoy a great story. Included with admission to the museum; no registration is necessary! \nThis program is made possible by Salt Lake County ZAP and the generosity of supporters like you.
URL:https://hawkwatch.org/event/5498/
LOCATION:Discovery Gateway Children’s Museum\, 444 W 100 S\, Salt Lake City\, UT\, 84101\, United States
CATEGORIES:Community Programs
ATTACH;FMTTYPE=image/png:https://hawkwatch.org/wp-content/uploads/2023/07/Reading-with-Raptors.png
END:VEVENT
BEGIN:VEVENT
DTSTART;TZID=America/Denver:20230811T170000
DTEND;TZID=America/Denver:20230811T200000
DTSTAMP:20260419T210222
CREATED:20230802T064614Z
LAST-MODIFIED:20240709T022823Z
UID:7704-1691773200-1691784000@hawkwatch.org
SUMMARY:HWI at Craft Lake City DIY Fest
DESCRIPTION:#LeaveyourMARK by making a free bird-related craft with us at the Mark Miller Subaru booth at the Craft Lake City DIY Festival! We’ll have knowledgeable volunteers on hand to lead you in a craft\, teach you about raptors\, and share more about how you can play a role in the raptor conservation happening in the Salt Lake Valley and beyond. \nTo find out more about the other vendors as well as ticket prices\, please visit the Craft Lake City website at this link!  And don’t forget\, kids under 12 get in for free!
URL:https://hawkwatch.org/event/live-raptors-at-craft-lake-city-diy-fest-3/
LOCATION:Utah State Fairpark\, 155 1000 W\, Salt Lake City\, UT\, 84116\, United States
END:VEVENT
END:VCALENDAR