BEGIN:VCALENDAR
VERSION:2.0
PRODID:-//HawkWatch International - ECPv6.15.16//NONSGML v1.0//EN
CALSCALE:GREGORIAN
METHOD:PUBLISH
X-ORIGINAL-URL:https://hawkwatch.org
X-WR-CALDESC:Events for HawkWatch International
REFRESH-INTERVAL;VALUE=DURATION:PT1H
X-Robots-Tag:noindex
X-PUBLISHED-TTL:PT1H
BEGIN:VTIMEZONE
TZID:America/Denver
BEGIN:DAYLIGHT
TZOFFSETFROM:-0700
TZOFFSETTO:-0600
TZNAME:MDT
DTSTART:20230312T090000
END:DAYLIGHT
BEGIN:STANDARD
TZOFFSETFROM:-0600
TZOFFSETTO:-0700
TZNAME:MST
DTSTART:20231105T080000
END:STANDARD
BEGIN:DAYLIGHT
TZOFFSETFROM:-0700
TZOFFSETTO:-0600
TZNAME:MDT
DTSTART:20240310T090000
END:DAYLIGHT
BEGIN:STANDARD
TZOFFSETFROM:-0600
TZOFFSETTO:-0700
TZNAME:MST
DTSTART:20241103T080000
END:STANDARD
BEGIN:DAYLIGHT
TZOFFSETFROM:-0700
TZOFFSETTO:-0600
TZNAME:MDT
DTSTART:20250309T090000
END:DAYLIGHT
BEGIN:STANDARD
TZOFFSETFROM:-0600
TZOFFSETTO:-0700
TZNAME:MST
DTSTART:20251102T080000
END:STANDARD
END:VTIMEZONE
BEGIN:VTIMEZONE
TZID:America/Chicago
BEGIN:DAYLIGHT
TZOFFSETFROM:-0600
TZOFFSETTO:-0500
TZNAME:CDT
DTSTART:20220313T080000
END:DAYLIGHT
BEGIN:STANDARD
TZOFFSETFROM:-0500
TZOFFSETTO:-0600
TZNAME:CST
DTSTART:20221106T070000
END:STANDARD
BEGIN:DAYLIGHT
TZOFFSETFROM:-0600
TZOFFSETTO:-0500
TZNAME:CDT
DTSTART:20230312T080000
END:DAYLIGHT
BEGIN:STANDARD
TZOFFSETFROM:-0500
TZOFFSETTO:-0600
TZNAME:CST
DTSTART:20231105T070000
END:STANDARD
BEGIN:DAYLIGHT
TZOFFSETFROM:-0600
TZOFFSETTO:-0500
TZNAME:CDT
DTSTART:20240310T080000
END:DAYLIGHT
BEGIN:STANDARD
TZOFFSETFROM:-0500
TZOFFSETTO:-0600
TZNAME:CST
DTSTART:20241103T070000
END:STANDARD
END:VTIMEZONE
BEGIN:VTIMEZONE
TZID:UTC
BEGIN:STANDARD
TZOFFSETFROM:+0000
TZOFFSETTO:+0000
TZNAME:UTC
DTSTART:20230101T000000
END:STANDARD
END:VTIMEZONE
BEGIN:VEVENT
DTSTART;TZID=America/Denver:20240307T180000
DTEND;TZID=America/Denver:20240307T193000
DTSTAMP:20260419T085354
CREATED:20240222T234310Z
LAST-MODIFIED:20240709T022815Z
UID:10954-1709834400-1709839800@hawkwatch.org
SUMMARY:Cavity Adopting Raptor Ecology Studies Volunteer Orientation
DESCRIPTION:HWI is looking for volunteers! \nThrough our Cavity Adopting Raptor Ecology Studies (CARES) we monitor hundreds of nest boxes housing American Kestrels\, Western Screech-owls\, and more across the diverse landscapes of Utah’s Wasatch Front\, Tuscon\, AZ\, and the Idaho/Washington border. Community scientists will be assigned a box (or several!) to monitor throughout the nesting season. If you live in the above-mentioned study areas\, you may be a good fit for our community science program! \nIf you are not local to these areas or are not able to commit to in-person nest box checks\, we have a brand new remote community science opportunity for you\, too! \nJoin us for our annual volunteer orientation to learn more about how you can volunteer with the CARES program by filling out the registration link here: https://form.jotform.com/HawkWatchInternational/HWI-CS-Availability \nThis is a virtual event.
URL:https://hawkwatch.org/event/cavity-adopting-raptor-ecology-studies-volunteer-orientation/
LOCATION:UT
ATTACH;FMTTYPE=image/png:https://hawkwatch.org/wp-content/uploads/2024/02/CARES-volunteer-orientation.png
END:VEVENT
BEGIN:VEVENT
DTSTART;TZID=America/Chicago:20230812T100000
DTEND;TZID=America/Chicago:20230812T110000
DTSTAMP:20260419T085354
CREATED:20230707T042502Z
LAST-MODIFIED:20240709T022833Z
UID:5498-1691834400-1691838000@hawkwatch.org
SUMMARY:Reading with Raptors
DESCRIPTION:Join HawkWatch International at the Discovery Gateway Museum for Reading with Raptors! During this monthly program\, children meet one of HWI’s Raptor Ambassadors while reading a storybook that matches the bird they’ve just met. They’ll learn about raptors and enjoy a great story. Included with admission to the museum; no registration is necessary! \nThis program is made possible by Salt Lake County ZAP and the generosity of supporters like you.
URL:https://hawkwatch.org/event/5498/
LOCATION:Discovery Gateway Children’s Museum\, 444 W 100 S\, Salt Lake City\, UT\, 84101\, United States
CATEGORIES:Community Programs
ATTACH;FMTTYPE=image/png:https://hawkwatch.org/wp-content/uploads/2023/07/Reading-with-Raptors.png
END:VEVENT
BEGIN:VEVENT
DTSTART;TZID=UTC:20240309T130000
DTEND;TZID=UTC:20240309T140000
DTSTAMP:20260419T085354
CREATED:20240125T051716Z
LAST-MODIFIED:20240709T022815Z
UID:10824-1709989200-1709992800@hawkwatch.org
SUMMARY:Swan Day at Bear River Migratory Bird Refuge
DESCRIPTION:Join HawkWatch International at the Bear River Migratory Bird Refuge for Swan Day! While we wont have any swans\, we will have live raptors that prey upon them. Come find out what raptors can take down a mighty adult swan and which raptors skillfully snatch nestlings and eggs!
URL:https://hawkwatch.org/event/swan-day-at-bear-river-migratory-bird-refuge/
LOCATION:Bear River Migratory Bird Refuge\, 2155 West Forest ST\, Brigham City\, UT\, 84302\, United States
ATTACH;FMTTYPE=image/png:https://hawkwatch.org/wp-content/uploads/2023/08/goose-on-glove.png
END:VEVENT
BEGIN:VEVENT
DTSTART;TZID=America/Denver:20240316T073000
DTEND;TZID=America/Denver:20240316T173000
DTSTAMP:20260419T085354
CREATED:20240125T021430Z
LAST-MODIFIED:20240709T022815Z
UID:10792-1710574200-1710610200@hawkwatch.org
SUMMARY:Tubac HawkWatch Field Trip with Scott Weidensaul
DESCRIPTION:Join us for a trip to the Tubac HawkWatch to count migrating raptors alongside raptor biologist and New York Times best-selling author Scott Weidensaul during the annual spring migration festival! You’ll spend the morning hawkwatching with Scott and the pros from HWI’s team before joining us for a private lunch. Afterward\, Scott will provide a presentation about raptor migration and the value of long-term monitoring\, followed by more hawkwatching. \nWhat’s Included \n\nUnique opportunity to hawkwatch with renowned raptor researcher\, Scott Weidensaul\nOpportunities to apply your raptor ID skills with the pros!\nLunch with Scott Weidensaul and the HawkWatch International team\nTransportation to and from Tucson\, Arizona to the Tubac HawkWatch\n\nTrip is full; see you in Tubac if you didn’t register yet! \nPreliminary Itinerary \n7:30am     Depart Tucson for Tubac\n8:30am     Private hawkwatching instruction with Scott and pros from HawkWatch International\n11:30am   Private lunch with Scott Weidensaul\n1:00pm     Presentation by Scott Weidensaul (open to the public)\n2:00pm     More hawkwatching with Scott and the pros (open to the public)\n4:30pm     Depart Tubac for Tucson\n5:30pm     Arrive in Tucson \n 
URL:https://hawkwatch.org/event/tubac-hawkwatch-field-trip-with-scott-weidensaul/
LOCATION:Tubac HawkWatch\, 31 Calle Iglesia\, Tubac\, AZ\, United States
CATEGORIES:Community Programs
ATTACH;FMTTYPE=image/png:https://hawkwatch.org/wp-content/uploads/2024/01/scott-w-event.png
END:VEVENT
BEGIN:VEVENT
DTSTART;TZID=UTC:20240224T120000
DTEND;TZID=UTC:20240224T140000
DTSTAMP:20260419T085354
CREATED:20240125T053741Z
LAST-MODIFIED:20250226T202002Z
UID:10831-1708776000-1708783200@hawkwatch.org
SUMMARY:Raptors at the Utah Natural History Museum
DESCRIPTION:While you learn about Mesozoic dinosaurs like the Utah Raptor\, stop by and meet their modern day relatives: birds of prey! What traits to dinosaurs and modern raptors share? Where do these birds live? What threats do they face? Learn all of this and more with paid admission to the NHMU. Find admission information on their website or in person. \nThis event is made possible by Salt Lake County ZAP and the generosity of supporters like you.
URL:https://hawkwatch.org/event/raptors-at-the-utah-natural-history-museum/
LOCATION:Natural History Museum of Utah\, 301 Wakara Way\, The University of Utah\, Salt Lake City\, UT\, 84108\, United States
ATTACH;FMTTYPE=image/jpeg:https://hawkwatch.org/wp-content/uploads/2023/08/nhmu_DinoFest_27-2-scaled.jpg
END:VEVENT
END:VCALENDAR