BEGIN:VCALENDAR
VERSION:2.0
PRODID:-//HawkWatch International - ECPv6.15.16//NONSGML v1.0//EN
CALSCALE:GREGORIAN
METHOD:PUBLISH
X-ORIGINAL-URL:https://hawkwatch.org
X-WR-CALDESC:Events for HawkWatch International
REFRESH-INTERVAL;VALUE=DURATION:PT1H
X-Robots-Tag:noindex
X-PUBLISHED-TTL:PT1H
BEGIN:VTIMEZONE
TZID:America/Denver
BEGIN:DAYLIGHT
TZOFFSETFROM:-0700
TZOFFSETTO:-0600
TZNAME:MDT
DTSTART:20230312T090000
END:DAYLIGHT
BEGIN:STANDARD
TZOFFSETFROM:-0600
TZOFFSETTO:-0700
TZNAME:MST
DTSTART:20231105T080000
END:STANDARD
BEGIN:DAYLIGHT
TZOFFSETFROM:-0700
TZOFFSETTO:-0600
TZNAME:MDT
DTSTART:20240310T090000
END:DAYLIGHT
BEGIN:STANDARD
TZOFFSETFROM:-0600
TZOFFSETTO:-0700
TZNAME:MST
DTSTART:20241103T080000
END:STANDARD
BEGIN:DAYLIGHT
TZOFFSETFROM:-0700
TZOFFSETTO:-0600
TZNAME:MDT
DTSTART:20250309T090000
END:DAYLIGHT
BEGIN:STANDARD
TZOFFSETFROM:-0600
TZOFFSETTO:-0700
TZNAME:MST
DTSTART:20251102T080000
END:STANDARD
END:VTIMEZONE
BEGIN:VTIMEZONE
TZID:UTC
BEGIN:STANDARD
TZOFFSETFROM:+0000
TZOFFSETTO:+0000
TZNAME:UTC
DTSTART:20230101T000000
END:STANDARD
END:VTIMEZONE
BEGIN:VEVENT
DTSTART;TZID=America/Denver:20241002T173000
DTEND;TZID=America/Denver:20241002T193000
DTSTAMP:20260419T121408
CREATED:20240826T212451Z
LAST-MODIFIED:20240926T023951Z
UID:12951-1727890200-1727897400@hawkwatch.org
SUMMARY:Wheeler Farm Pumpkin Days 2024
DESCRIPTION:We’re back! Join us once again for this fall family fun event! Come meet our raptor ambassadors\, learn about where raptors are hanging out in the fall\, and find out what raptors may be living in your backyard! Find us at the Old House behind the visitor center. \nAdmission\nPumpkin Days (includes Maze and play area plus wagon OR cow train ride) $12\nChildren under age 2 are free but must be accompanied by paying caregiver\nTuesdays Only- $2 Off (only good on Tuesdays)\nMaze Only price: $8.00 \nThis event is made possible by Salt Lake County ZAP and the generosity of supporters like you. \n \n 
URL:https://hawkwatch.org/event/wheeler-farm-pumpkin-days-2024/
LOCATION:Wheeler Historic Farm\, 6351 South 900 East\, Murra\, UT\, 84121\, United States
CATEGORIES:Community Programs
ATTACH;FMTTYPE=image/png:https://hawkwatch.org/wp-content/uploads/2024/08/owl-event.png
END:VEVENT
BEGIN:VEVENT
DTSTART;TZID=America/Denver:20240601T130000
DTEND;TZID=America/Denver:20240601T150000
DTSTAMP:20260419T121408
CREATED:20240521T213359Z
LAST-MODIFIED:20250528T205532Z
UID:11600-1717246800-1717254000@hawkwatch.org
SUMMARY:Loveland Living Planet Raptor Encounters
DESCRIPTION:Join HawkWatch International for a drop-in program at the aquarium! Check out their newest raptor exhibit and meet some of our Raptor Ambassadors up close. \nThis program is free with admission.
URL:https://hawkwatch.org/event/loveland-living-planet-raptor-encounters/
LOCATION:Loveland Living Planet Aquarium\, 12033 Lone Peak Pkwy\, Draper\, 84020\, United States
CATEGORIES:Community Programs
ATTACH;FMTTYPE=image/png:https://hawkwatch.org/wp-content/uploads/2024/05/Aquarium-programs.png
END:VEVENT
BEGIN:VEVENT
DTSTART;TZID=America/Denver:20241002T173000
DTEND;TZID=America/Denver:20241002T193000
DTSTAMP:20260419T121408
CREATED:20240826T212451Z
LAST-MODIFIED:20240926T023951Z
UID:12951-1727890200-1727897400@hawkwatch.org
SUMMARY:Wheeler Farm Pumpkin Days 2024
DESCRIPTION:We’re back! Join us once again for this fall family fun event! Come meet our raptor ambassadors\, learn about where raptors are hanging out in the fall\, and find out what raptors may be living in your backyard! Find us at the Old House behind the visitor center. \nAdmission\nPumpkin Days (includes Maze and play area plus wagon OR cow train ride) $12\nChildren under age 2 are free but must be accompanied by paying caregiver\nTuesdays Only- $2 Off (only good on Tuesdays)\nMaze Only price: $8.00 \nThis event is made possible by Salt Lake County ZAP and the generosity of supporters like you. \n \n 
URL:https://hawkwatch.org/event/wheeler-farm-pumpkin-days-2024/
LOCATION:Wheeler Historic Farm\, 6351 South 900 East\, Murra\, UT\, 84121\, United States
CATEGORIES:Community Programs
ATTACH;FMTTYPE=image/png:https://hawkwatch.org/wp-content/uploads/2024/08/owl-event.png
END:VEVENT
BEGIN:VEVENT
DTSTART;TZID=America/Denver:20241010T153000
DTEND;TZID=America/Denver:20241010T163000
DTSTAMP:20260419T121408
CREATED:20240522T002016Z
LAST-MODIFIED:20240709T022811Z
UID:11675-1728574200-1728577800@hawkwatch.org
SUMMARY:Kearns Library Program
DESCRIPTION:Ever wonder what makes a raptor different than other birds? Come by the Kearns Library and find out! Meet our live raptor ambassadors and ask our educators all your burning raptor questions.\nThis is a family friendly event\, no tickets or registration required! \nThis event is made possible by Salt Lake County ZAP and the generosity of supporters like you.
URL:https://hawkwatch.org/event/kearns-library-program/
LOCATION:Kearns Library\, 4275 W 5345 S\, Kearns\, UT\, 84118\, United States
CATEGORIES:Community Programs
ATTACH;FMTTYPE=image/png:https://hawkwatch.org/wp-content/uploads/2024/03/Event-Calendar-Images.png
END:VEVENT
BEGIN:VEVENT
DTSTART;TZID=America/Denver:20241015T173000
DTEND;TZID=America/Denver:20241015T183000
DTSTAMP:20260419T121408
CREATED:20240522T002947Z
LAST-MODIFIED:20240709T022811Z
UID:11680-1729013400-1729017000@hawkwatch.org
SUMMARY:Raptor Encounter - Bear River State Park
DESCRIPTION:Meet our Raptor Ambassadors in Evanston\, Wyoming! Join us for a presentation on what makes a bird a raptor\, how raptors fit into their ecosystems\, and how different types of raptors have different features depending on what\, when\, and where they hunt. \nFree with pass for park entry.
URL:https://hawkwatch.org/event/raptor-encounter-bear-river-state-park-5/
LOCATION:Bear River State Park\, 601 Bear River Dr\, Evanston\, WY\, 82930\, United States
CATEGORIES:Community Programs
ATTACH;FMTTYPE=image/png:https://hawkwatch.org/wp-content/uploads/2024/05/General-program.png
END:VEVENT
BEGIN:VEVENT
DTSTART;TZID=America/Denver:20241002T173000
DTEND;TZID=America/Denver:20241002T193000
DTSTAMP:20260419T121408
CREATED:20240826T212451Z
LAST-MODIFIED:20240926T023951Z
UID:12951-1727890200-1727897400@hawkwatch.org
SUMMARY:Wheeler Farm Pumpkin Days 2024
DESCRIPTION:We’re back! Join us once again for this fall family fun event! Come meet our raptor ambassadors\, learn about where raptors are hanging out in the fall\, and find out what raptors may be living in your backyard! Find us at the Old House behind the visitor center. \nAdmission\nPumpkin Days (includes Maze and play area plus wagon OR cow train ride) $12\nChildren under age 2 are free but must be accompanied by paying caregiver\nTuesdays Only- $2 Off (only good on Tuesdays)\nMaze Only price: $8.00 \nThis event is made possible by Salt Lake County ZAP and the generosity of supporters like you. \n \n 
URL:https://hawkwatch.org/event/wheeler-farm-pumpkin-days-2024/
LOCATION:Wheeler Historic Farm\, 6351 South 900 East\, Murra\, UT\, 84121\, United States
CATEGORIES:Community Programs
ATTACH;FMTTYPE=image/png:https://hawkwatch.org/wp-content/uploads/2024/08/owl-event.png
END:VEVENT
BEGIN:VEVENT
DTSTART;TZID=UTC:20241019T100000
DTEND;TZID=UTC:20241019T130000
DTSTAMP:20260419T121408
CREATED:20240814T231529Z
LAST-MODIFIED:20240814T231529Z
UID:12885-1729332000-1729342800@hawkwatch.org
SUMMARY:Owl-o-ween at Farmington Bay
DESCRIPTION:Dress up in your spookiest costume and join Hawkwatch International and the Utah Division of Wildlife Resources for Owl-o-ween at the Eccles Wildlife Education Center! This is a free\, family-friendly event that you and your little ones won’t want to miss this fall season. \nWhat to expect: \n\nSee live owls up close and a presentation on owl myths\nLearn more about creatures of the night.\nTake a spooky walk on the nature trail.\nPlay games\, make crafts\, and more.\n\nJoin us for this spectacular event!
URL:https://hawkwatch.org/event/owl-o-ween-at-farmington-bay/
LOCATION:George S. and Dolores Doré Eccles Wildlife Education Center\, 1157 South Waterfowl Way\, Farmington\, UT\, 84025\, United States
ATTACH;FMTTYPE=image/png:https://hawkwatch.org/wp-content/uploads/2024/08/owl-event.png
END:VEVENT
BEGIN:VEVENT
DTSTART;TZID=America/Denver:20241002T173000
DTEND;TZID=America/Denver:20241002T193000
DTSTAMP:20260419T121408
CREATED:20240826T212451Z
LAST-MODIFIED:20240926T023951Z
UID:12951-1727890200-1727897400@hawkwatch.org
SUMMARY:Wheeler Farm Pumpkin Days 2024
DESCRIPTION:We’re back! Join us once again for this fall family fun event! Come meet our raptor ambassadors\, learn about where raptors are hanging out in the fall\, and find out what raptors may be living in your backyard! Find us at the Old House behind the visitor center. \nAdmission\nPumpkin Days (includes Maze and play area plus wagon OR cow train ride) $12\nChildren under age 2 are free but must be accompanied by paying caregiver\nTuesdays Only- $2 Off (only good on Tuesdays)\nMaze Only price: $8.00 \nThis event is made possible by Salt Lake County ZAP and the generosity of supporters like you. \n \n 
URL:https://hawkwatch.org/event/wheeler-farm-pumpkin-days-2024/
LOCATION:Wheeler Historic Farm\, 6351 South 900 East\, Murra\, UT\, 84121\, United States
CATEGORIES:Community Programs
ATTACH;FMTTYPE=image/png:https://hawkwatch.org/wp-content/uploads/2024/08/owl-event.png
END:VEVENT
BEGIN:VEVENT
DTSTART;TZID=UTC:20241026T100000
DTEND;TZID=UTC:20241026T130000
DTSTAMP:20260419T121408
CREATED:20240826T214724Z
LAST-MODIFIED:20240826T214724Z
UID:12960-1729936800-1729947600@hawkwatch.org
SUMMARY:Antelope Island Bison Roundup 2024
DESCRIPTION:Join us at the 2024 annual bison roundup at Antelope Island\, an up-close example of conservation and land management practices happening in your backyard! Come meet a Raptor Ambassador\, find out about the threats raptors are facing in our home state\, and discover what kinds of threatened and endangered raptors call Garr Ranch home. \nThis event requires an entrance fee handled by the state park. Please visit their website for the fee schedule\, a list of other vendors\, and the roundup schedule: https://stateparks.utah.gov/parks/antelope-island/bison-roundup/ \nThis event is made possible by the Lawrence T. and Janet T. Dee Foundation and the generosity of supporters like you.
URL:https://hawkwatch.org/event/antelope-island-bison-roundup-2024/
LOCATION:Antelope Island State Park\, 4528 West 1700 South\, Syracuse\, UT\, 84075\, United States
CATEGORIES:Community Programs
ATTACH;FMTTYPE=image/png:https://hawkwatch.org/wp-content/uploads/2024/05/General-program.png
END:VEVENT
BEGIN:VEVENT
DTSTART;TZID=America/Denver:20241028T180000
DTEND;TZID=America/Denver:20241028T200000
DTSTAMP:20260419T121408
CREATED:20240725T023407Z
LAST-MODIFIED:20241028T194226Z
UID:12724-1730138400-1730145600@hawkwatch.org
SUMMARY:Owl-o-ween 2024 with HawkWatch International
DESCRIPTION:NEW: 7:00pm Owl Pellet Dissection just scheduled! Reserve your spot here.\n6:30pm Owl Pellet Dissection now SOLD OUT. Reserve your spot on the waitlist here. \nWhoo needs trick or treating when there are LIVE OWLS you could be meeting? \nJoin HawkWatch International on Monday\, October 28th from 6-8pm to celebrate Owl-o-ween with our owl-dorable Raptor Ambassadors. During this FREE\, family-friendly event\, you’ll have the chance for up-close encounters with live owls\, trick-or-treating\, and more. Costumes are highly recommended (please do not wear an inflatable costume as the birds do not like them)! \nAnd for those whoo want to get a little spookier\, you can purchase an owl pellet to dissect with help from our educators. Owl pellets are extremely limited\, so reserve yours ASAP if you’d like to purchase this add-on! \nREGISTER NOW \nThis event is made possible by Salt Lake County ZAP and the generosity of supporters like you. \n \n  \nOwl Pellet Dissection Details \n\nIndividual owl pellets can be dissected by one person; individuals who need assistance may have one individual join them for the activity.\nFamily packs are available and include (4) owl pellets that may be dissected by up to (4) people.\nOwl pellets will be dissected in two shifts\, one at 6:30pm and one at 7:30pm\, so please be sure to select the time that works best for you when ordering. If we have any no-shows\, walk-ins will be offered a pellet.\nIf you reserve an owl pellet\, please plan to arrive 15 minutes prior to the start of your dissection time. If any owl pellets remain unclaimed at the start of the dissection\, they will be offered to walk-ins\, and you will forfeit your pellet.
URL:https://hawkwatch.org/event/owloween24/
LOCATION:HawkWatch International\, 2240 S 900 E\, Salt Lake City\, UT\, 84106\, United States
ATTACH;FMTTYPE=image/png:https://hawkwatch.org/wp-content/uploads/2024/07/owloween-event.png
END:VEVENT
END:VCALENDAR