BEGIN:VCALENDAR
VERSION:2.0
PRODID:-//HawkWatch International - ECPv6.15.16//NONSGML v1.0//EN
CALSCALE:GREGORIAN
METHOD:PUBLISH
X-ORIGINAL-URL:https://hawkwatch.org
X-WR-CALDESC:Events for HawkWatch International
REFRESH-INTERVAL;VALUE=DURATION:PT1H
X-Robots-Tag:noindex
X-PUBLISHED-TTL:PT1H
BEGIN:VTIMEZONE
TZID:America/Denver
BEGIN:DAYLIGHT
TZOFFSETFROM:-0700
TZOFFSETTO:-0600
TZNAME:MDT
DTSTART:20230312T090000
END:DAYLIGHT
BEGIN:STANDARD
TZOFFSETFROM:-0600
TZOFFSETTO:-0700
TZNAME:MST
DTSTART:20231105T080000
END:STANDARD
BEGIN:DAYLIGHT
TZOFFSETFROM:-0700
TZOFFSETTO:-0600
TZNAME:MDT
DTSTART:20240310T090000
END:DAYLIGHT
BEGIN:STANDARD
TZOFFSETFROM:-0600
TZOFFSETTO:-0700
TZNAME:MST
DTSTART:20241103T080000
END:STANDARD
BEGIN:DAYLIGHT
TZOFFSETFROM:-0700
TZOFFSETTO:-0600
TZNAME:MDT
DTSTART:20250309T090000
END:DAYLIGHT
BEGIN:STANDARD
TZOFFSETFROM:-0600
TZOFFSETTO:-0700
TZNAME:MST
DTSTART:20251102T080000
END:STANDARD
END:VTIMEZONE
BEGIN:VEVENT
DTSTART;TZID=America/Denver:20240601T130000
DTEND;TZID=America/Denver:20240601T150000
DTSTAMP:20260421T041043
CREATED:20240521T213359Z
LAST-MODIFIED:20250528T205532Z
UID:11600-1717246800-1717254000@hawkwatch.org
SUMMARY:Loveland Living Planet Raptor Encounters
DESCRIPTION:Join HawkWatch International for a drop-in program at the aquarium! Check out their newest raptor exhibit and meet some of our Raptor Ambassadors up close. \nThis program is free with admission.
URL:https://hawkwatch.org/event/loveland-living-planet-raptor-encounters/
LOCATION:Loveland Living Planet Aquarium\, 12033 Lone Peak Pkwy\, Draper\, 84020\, United States
CATEGORIES:Community Programs
ATTACH;FMTTYPE=image/png:https://hawkwatch.org/wp-content/uploads/2024/05/Aquarium-programs.png
END:VEVENT
BEGIN:VEVENT
DTSTART;TZID=America/Denver:20241106T170000
DTEND;TZID=America/Denver:20241106T200000
DTSTAMP:20260421T041043
CREATED:20241018T003855Z
LAST-MODIFIED:20241018T003929Z
UID:13182-1730912400-1730923200@hawkwatch.org
SUMMARY:Sensory Friendly Evening at NHMU
DESCRIPTION:Join HWI at the Natural History Museum of Utah for a Sensory Friendly Evening. During this event\, the museum will have lights and sounds adjusted\, have sensory tools available for use\, and offer programming suitable for those with sensory needs. \nNHMU will have ASL Interpreters on site for guests who require interpretation services. \nThis event is FREE to attend and registration is not required.
URL:https://hawkwatch.org/event/sensory-friendly-evening-at-nhmu/
LOCATION:Natural History Museum of Utah\, 301 Wakara Way\, The University of Utah\, Salt Lake City\, UT\, 84108\, United States
CATEGORIES:Community Programs
ATTACH;FMTTYPE=image/png:https://hawkwatch.org/wp-content/uploads/2024/10/goose-at-nhmu.png
END:VEVENT
BEGIN:VEVENT
DTSTART;TZID=America/Denver:20241118T160000
DTEND;TZID=America/Denver:20241118T170000
DTSTAMP:20260421T041043
CREATED:20240522T003114Z
LAST-MODIFIED:20240709T022810Z
UID:11682-1731945600-1731949200@hawkwatch.org
SUMMARY:Sandy Library Program
DESCRIPTION:Ever wonder what makes a raptor different than other birds? Come by the Sandy Library and find out! Meet our live raptor ambassadors and ask our educators all your burning raptor questions.\nThis is a family friendly event\, no tickets or registration required! \nThis event is made possible by Salt Lake County ZAP and the generosity of supporters like you.
URL:https://hawkwatch.org/event/sandy-library-program/
LOCATION:Sandy Library\, 10100 Petunia Way\,\, Sandy\, 84092\, United States
CATEGORIES:Community Programs
ATTACH;FMTTYPE=image/png:https://hawkwatch.org/wp-content/uploads/2024/03/Event-Calendar-Images.png
END:VEVENT
END:VCALENDAR